BEGIN:VCALENDAR
VERSION:2.0
PRODID:-//Elgin Alano Club - ECPv6.15.20//NONSGML v1.0//EN
CALSCALE:GREGORIAN
METHOD:PUBLISH
X-ORIGINAL-URL:https://elginalanoclub.com
X-WR-CALDESC:Events for Elgin Alano Club
REFRESH-INTERVAL;VALUE=DURATION:PT1H
X-Robots-Tag:noindex
X-PUBLISHED-TTL:PT1H
BEGIN:VTIMEZONE
TZID:America/Chicago
BEGIN:DAYLIGHT
TZOFFSETFROM:-0600
TZOFFSETTO:-0500
TZNAME:CDT
DTSTART:20210314T080000
END:DAYLIGHT
BEGIN:STANDARD
TZOFFSETFROM:-0500
TZOFFSETTO:-0600
TZNAME:CST
DTSTART:20211107T070000
END:STANDARD
BEGIN:DAYLIGHT
TZOFFSETFROM:-0600
TZOFFSETTO:-0500
TZNAME:CDT
DTSTART:20220313T080000
END:DAYLIGHT
BEGIN:STANDARD
TZOFFSETFROM:-0500
TZOFFSETTO:-0600
TZNAME:CST
DTSTART:20221106T070000
END:STANDARD
BEGIN:DAYLIGHT
TZOFFSETFROM:-0600
TZOFFSETTO:-0500
TZNAME:CDT
DTSTART:20230312T080000
END:DAYLIGHT
BEGIN:STANDARD
TZOFFSETFROM:-0500
TZOFFSETTO:-0600
TZNAME:CST
DTSTART:20231105T070000
END:STANDARD
END:VTIMEZONE
BEGIN:VEVENT
DTSTART;TZID=America/Chicago:20221001T190000
DTEND;TZID=America/Chicago:20221001T203000
DTSTAMP:20260422T230145
CREATED:20220925T180052Z
LAST-MODIFIED:20220925T180052Z
UID:114762-1664650800-1664656200@elginalanoclub.com
SUMMARY:1st Saturday Open Speaker Meeting - Marilyn R.
DESCRIPTION:Saturday Open Speaker Meetings*\nEvery 1st and 3rd Saturday of the month.\n________ \nSaturday\, October 1st @ 7pm \nMarilyn R. From Roselle\, IL \n________ \nElgin Alano Club \n73 S. Riverside Dr.\, Downtown Elgin\, Illinois \n  \n*During the summer months\, the grill will be lit at 5:00pm for food and fellowship before the meeting and we will meet “on the promenade” weather permitting. 
URL:https://elginalanoclub.com/event/1st-saturday-open-speaker-meeting-marilyn-r/
LOCATION:Elgin Alano Club\, 73 Riverside Drive\, Elgin\, IL\, 60120\, United States
CATEGORIES:District 22,EAC Event,Open Speaker
ATTACH;FMTTYPE=image/jpeg:https://elginalanoclub.com/wp-content/uploads/2022/07/jul-aug-2022-Saturday-Open.jpg
ORGANIZER;CN="Elgin Alano Club":MAILTO:elginalanoclub@gmail.com
END:VEVENT
BEGIN:VEVENT
DTSTART;TZID=America/Chicago:20221015T190000
DTEND;TZID=America/Chicago:20221015T203000
DTSTAMP:20260422T230145
CREATED:20220925T180327Z
LAST-MODIFIED:20220925T180327Z
UID:114764-1665860400-1665865800@elginalanoclub.com
SUMMARY:3rd Saturday Open Speaker Meeting - Mike B.
DESCRIPTION:Saturday Open Speaker Meetings*\nEvery 1st and 3rd Saturday of the month.\n________ \nSaturday\, October 1st @ 7pm \nMike B. From Elgin\, IL \n________ \nElgin Alano Club \n73 S. Riverside Dr.\, Downtown Elgin\, Illinois \n  \n*During the summer months\, the grill will be lit at 5:00pm for food and fellowship before the meeting and we will meet “on the promenade” weather permitting. 
URL:https://elginalanoclub.com/event/3rd-saturday-open-speaker-meeting-mike-b-2/
LOCATION:Elgin Alano Club\, 73 Riverside Drive\, Elgin\, IL\, 60120\, United States
CATEGORIES:District 22,EAC Event,Open Speaker
ATTACH;FMTTYPE=image/jpeg:https://elginalanoclub.com/wp-content/uploads/2022/07/jul-aug-2022-Saturday-Open.jpg
ORGANIZER;CN="Elgin Alano Club":MAILTO:elginalanoclub@gmail.com
END:VEVENT
END:VCALENDAR