BEGIN:VCALENDAR
VERSION:2.0
PRODID:-//Elgin Alano Club - ECPv6.15.20//NONSGML v1.0//EN
CALSCALE:GREGORIAN
METHOD:PUBLISH
X-ORIGINAL-URL:https://elginalanoclub.com
X-WR-CALDESC:Events for Elgin Alano Club
REFRESH-INTERVAL;VALUE=DURATION:PT1H
X-Robots-Tag:noindex
X-PUBLISHED-TTL:PT1H
BEGIN:VTIMEZONE
TZID:America/Chicago
BEGIN:DAYLIGHT
TZOFFSETFROM:-0600
TZOFFSETTO:-0500
TZNAME:CDT
DTSTART:20210314T080000
END:DAYLIGHT
BEGIN:STANDARD
TZOFFSETFROM:-0500
TZOFFSETTO:-0600
TZNAME:CST
DTSTART:20211107T070000
END:STANDARD
BEGIN:DAYLIGHT
TZOFFSETFROM:-0600
TZOFFSETTO:-0500
TZNAME:CDT
DTSTART:20220313T080000
END:DAYLIGHT
BEGIN:STANDARD
TZOFFSETFROM:-0500
TZOFFSETTO:-0600
TZNAME:CST
DTSTART:20221106T070000
END:STANDARD
BEGIN:DAYLIGHT
TZOFFSETFROM:-0600
TZOFFSETTO:-0500
TZNAME:CDT
DTSTART:20230312T080000
END:DAYLIGHT
BEGIN:STANDARD
TZOFFSETFROM:-0500
TZOFFSETTO:-0600
TZNAME:CST
DTSTART:20231105T070000
END:STANDARD
END:VTIMEZONE
BEGIN:VEVENT
DTSTART;TZID=America/Chicago:20221203T173000
DTEND;TZID=America/Chicago:20221203T203000
DTSTAMP:20260422T202140
CREATED:20221226T165842Z
LAST-MODIFIED:20221226T165842Z
UID:114841-1670088600-1670099400@elginalanoclub.com
SUMMARY:1st Saturday Open Speaker Meeting - Dan S.
DESCRIPTION:Saturday Open Speaker Meetings*\nEvery 1st and 3rd Saturday of the month.\n________ \nSaturday\, January 7th @ 7pm \nDan S. From Algonquin\, IL \n________ \nElgin Alano Club \n73 S. Riverside Dr.\, Downtown Elgin\, Illinois \n  \n*During the winter months\, we will have smoked pulled pork dinners available from 5:30 – 7:00 pm.  Please come early for the ‘Meeting before the Meeting’ for food\, fellowship and fun! 
URL:https://elginalanoclub.com/event/1st-saturday-open-speaker-meeting-dan-s-2/
LOCATION:Elgin Alano Club\, 73 Riverside Drive\, Elgin\, IL\, 60120\, United States
CATEGORIES:District 22,EAC Event,Open Speaker
ATTACH;FMTTYPE=image/jpeg:https://elginalanoclub.com/wp-content/uploads/2022/12/Saturday-Open-Dec-Jan-23-e1703371435500.jpg
ORGANIZER;CN="Elgin Alano Club":MAILTO:elginalanoclub@gmail.com
END:VEVENT
BEGIN:VEVENT
DTSTART;TZID=America/Chicago:20221210T180000
DTEND;TZID=America/Chicago:20221210T230000
DTSTAMP:20260422T202140
CREATED:20221127T201205Z
LAST-MODIFIED:20221127T201205Z
UID:114807-1670695200-1670713200@elginalanoclub.com
SUMMARY:District 22 Christmas Party
DESCRIPTION:NIA District 22 Annual Christmas Party\nProudly presents… a festive fellowship dinner and holiday celebration! All are welcome! \nDate: Saturday\, December 10\, 2022\nTime: 6:00 – 11:00 pm \nZion Lutheran Church\n330 Griswold Street\, Elgin\, Illinois 60123 \nMain dish provided\, Please bring a dish to pass! \nALL ARE WELCOME! \n\nBring Yourself and your Family!\nDJ\, Raffles\, Kids Games and Live Entertainment\n\nFOOD & ACTIVITIES FOR THE CHILDREN!  \n\nSanta at 8:00pm\n\nQuestions? Please contact Wendy C.  (847) 810-9106 or Robin S. (847) 902-4236 \nFor more information visit: http://dist22.aa-nia.org/
URL:https://elginalanoclub.com/event/district-22-christmas-party-2/
LOCATION:Zion Lutheran Church\, 330 griswald st\, Elgin\, IL\, 60120\, United States
CATEGORIES:District 22,Open Event,Social
ATTACH;FMTTYPE=image/png:https://elginalanoclub.com/wp-content/uploads/2022/11/D22-Christmas-Party-20221210.png
END:VEVENT
BEGIN:VEVENT
DTSTART;TZID=America/Chicago:20221217T173000
DTEND;TZID=America/Chicago:20221217T203000
DTSTAMP:20260422T202140
CREATED:20221226T170055Z
LAST-MODIFIED:20221226T170055Z
UID:114843-1671298200-1671309000@elginalanoclub.com
SUMMARY:3rd Saturday Open Speaker Meeting - Mark 'DJ' M.
DESCRIPTION:Saturday Open Speaker Meetings*\nEvery 1st and 3rd Saturday of the month.\n________ \nSaturday\, January 7th @ 7pm \nMark “DJ” M. From Gilberts\, IL \n________ \nElgin Alano Club \n73 S. Riverside Dr.\, Downtown Elgin\, Illinois \n  \n*During the winter months\, we will have smoked pulled pork dinners available from 5:30 – 7:00 pm.  Please come early for the ‘Meeting before the Meeting’ for food\, fellowship and fun! 
URL:https://elginalanoclub.com/event/3rd-saturday-open-speaker-meeting-mark-dj-m/
LOCATION:Elgin Alano Club\, 73 Riverside Drive\, Elgin\, IL\, 60120\, United States
CATEGORIES:District 22,EAC Event,Open Speaker
ATTACH;FMTTYPE=image/jpeg:https://elginalanoclub.com/wp-content/uploads/2022/12/Saturday-Open-Dec-Jan-23-e1703371435500.jpg
ORGANIZER;CN="Elgin Alano Club":MAILTO:elginalanoclub@gmail.com
END:VEVENT
END:VCALENDAR