BEGIN:VCALENDAR
VERSION:2.0
PRODID:-//Elgin Alano Club - ECPv6.15.20//NONSGML v1.0//EN
CALSCALE:GREGORIAN
METHOD:PUBLISH
X-WR-CALNAME:Elgin Alano Club
X-ORIGINAL-URL:https://elginalanoclub.com
X-WR-CALDESC:Events for Elgin Alano Club
REFRESH-INTERVAL;VALUE=DURATION:PT1H
X-Robots-Tag:noindex
X-PUBLISHED-TTL:PT1H
BEGIN:VTIMEZONE
TZID:America/Chicago
BEGIN:DAYLIGHT
TZOFFSETFROM:-0600
TZOFFSETTO:-0500
TZNAME:CDT
DTSTART:20220313T080000
END:DAYLIGHT
BEGIN:STANDARD
TZOFFSETFROM:-0500
TZOFFSETTO:-0600
TZNAME:CST
DTSTART:20221106T070000
END:STANDARD
BEGIN:DAYLIGHT
TZOFFSETFROM:-0600
TZOFFSETTO:-0500
TZNAME:CDT
DTSTART:20230312T080000
END:DAYLIGHT
BEGIN:STANDARD
TZOFFSETFROM:-0500
TZOFFSETTO:-0600
TZNAME:CST
DTSTART:20231105T070000
END:STANDARD
BEGIN:DAYLIGHT
TZOFFSETFROM:-0600
TZOFFSETTO:-0500
TZNAME:CDT
DTSTART:20240310T080000
END:DAYLIGHT
BEGIN:STANDARD
TZOFFSETFROM:-0500
TZOFFSETTO:-0600
TZNAME:CST
DTSTART:20241103T070000
END:STANDARD
END:VTIMEZONE
BEGIN:VEVENT
DTSTART;TZID=America/Chicago:20230401T173000
DTEND;TZID=America/Chicago:20230401T200000
DTSTAMP:20260422T150248
CREATED:20230324T164908Z
LAST-MODIFIED:20230324T165041Z
UID:114874-1680370200-1680379200@elginalanoclub.com
SUMMARY:1st Saturday Open Speaker Meeting - Aki C.
DESCRIPTION:Saturday Open Speaker Meetings*\nEvery 1st and 3rd Saturday of the month.\n________ \nSaturday\, April 1st @ 7pm \nAki C. from Elgin\, IL \n________ \nElgin Alano Club \n73 S. Riverside Dr.\, Downtown Elgin\, Illinois \n  \n*During the winter months\, we will have smoked pulled pork dinners available from 5:30 – 7:00 pm.  Please come early for the ‘Meeting before the Meeting’ for food\, fellowship and fun! 
URL:https://elginalanoclub.com/event/1st-saturday-open-speaker-meeting-aki-c/
LOCATION:Elgin Alano Club\, 73 Riverside Drive\, Elgin\, IL\, 60120\, United States
CATEGORIES:District 22,EAC Event,Open Speaker
ATTACH;FMTTYPE=image/jpeg:https://elginalanoclub.com/wp-content/uploads/2022/12/Saturday-Open-Dec-Jan-23-e1703371435500.jpg
ORGANIZER;CN="Elgin Alano Club":MAILTO:elginalanoclub@gmail.com
END:VEVENT
BEGIN:VEVENT
DTSTART;TZID=America/Chicago:20230415T173000
DTEND;TZID=America/Chicago:20230415T200000
DTSTAMP:20260422T150248
CREATED:20230324T165210Z
LAST-MODIFIED:20230324T165210Z
UID:114876-1681579800-1681588800@elginalanoclub.com
SUMMARY:3rd Saturday Open Speaker Meeting - Carol S.
DESCRIPTION:Saturday Open Speaker Meetings*\nEvery 1st and 3rd Saturday of the month.\n________ \nSaturday\, April 15th @ 7pm \nCarol S. from Elgin\, IL \n________ \nElgin Alano Club \n73 S. Riverside Dr.\, Downtown Elgin\, Illinois \n  \n*During the winter months\, we will have smoked pulled pork dinners available from 5:30 – 7:00 pm.  Please come early for the ‘Meeting before the Meeting’ for food\, fellowship and fun! 
URL:https://elginalanoclub.com/event/3rd-saturday-open-speaker-meeting-carol-s/
LOCATION:Elgin Alano Club\, 73 Riverside Drive\, Elgin\, IL\, 60120\, United States
CATEGORIES:District 22,EAC Event,Open Speaker
ATTACH;FMTTYPE=image/jpeg:https://elginalanoclub.com/wp-content/uploads/2022/12/Saturday-Open-Dec-Jan-23-e1703371435500.jpg
ORGANIZER;CN="Elgin Alano Club":MAILTO:elginalanoclub@gmail.com
END:VEVENT
END:VCALENDAR