BEGIN:VCALENDAR
VERSION:2.0
PRODID:-//Elgin Alano Club - ECPv6.15.20//NONSGML v1.0//EN
CALSCALE:GREGORIAN
METHOD:PUBLISH
X-WR-CALNAME:Elgin Alano Club
X-ORIGINAL-URL:https://elginalanoclub.com
X-WR-CALDESC:Events for Elgin Alano Club
REFRESH-INTERVAL;VALUE=DURATION:PT1H
X-Robots-Tag:noindex
X-PUBLISHED-TTL:PT1H
BEGIN:VTIMEZONE
TZID:America/Chicago
BEGIN:DAYLIGHT
TZOFFSETFROM:-0600
TZOFFSETTO:-0500
TZNAME:CDT
DTSTART:20210314T080000
END:DAYLIGHT
BEGIN:STANDARD
TZOFFSETFROM:-0500
TZOFFSETTO:-0600
TZNAME:CST
DTSTART:20211107T070000
END:STANDARD
BEGIN:DAYLIGHT
TZOFFSETFROM:-0600
TZOFFSETTO:-0500
TZNAME:CDT
DTSTART:20220313T080000
END:DAYLIGHT
BEGIN:STANDARD
TZOFFSETFROM:-0500
TZOFFSETTO:-0600
TZNAME:CST
DTSTART:20221106T070000
END:STANDARD
BEGIN:DAYLIGHT
TZOFFSETFROM:-0600
TZOFFSETTO:-0500
TZNAME:CDT
DTSTART:20230312T080000
END:DAYLIGHT
BEGIN:STANDARD
TZOFFSETFROM:-0500
TZOFFSETTO:-0600
TZNAME:CST
DTSTART:20231105T070000
END:STANDARD
END:VTIMEZONE
BEGIN:VEVENT
DTSTART;TZID=America/Chicago:20220312T190000
DTEND;TZID=America/Chicago:20220312T210000
DTSTAMP:20260421T040401
CREATED:20210318T042338Z
LAST-MODIFIED:20220224T152028Z
UID:114163-1647111600-1647118800@elginalanoclub.com
SUMMARY:St. PattyVirtual Bingo Fundraiser - 10 Games 3/12
DESCRIPTION:Online Fundraiser – 10 Games – $$ Prizes – Multiple Winners!\nVirtual Bingo Tournament – March 12\, 2022\nJoin us for a crazy-fun ONLINE Bingo Party with EAC on Saturday\, March 12th @ 7:00 pm via Zoom! \n\nPurchase your Bingo cards in advance: 10 games for $20 – $$ prizes for each B-I-N-G-O … BINGO!\nREGISTRATION REQUIRED – purchase your Initial Tournament Card online below and be emailed your unique Bingo Card(s) & login info on Saturday afternoon 3/12.\nDon’t delay\, prizes valued at $25 and up for each game!  The Zoom room will open at 6:30pm CT; game play starts at 7:00pm CT!\n\n  \n\n\n\n \nVirtual Bingo Card – 1 for $20.00\n\n \nExtra Cards – $5.00 each\n\n\n\n\n\n\n\n\n\n\n\n*Online purchases made via paypal or credit card to include a small processing fee (2.9% + $0.30 cents).  \n\nTickets:  $20 for 10 Bingo Games\nExtra Game Cards:  $5 each (play as many cards as you can handle per virtual game!) \nWhat you Need: Computer\, iPad or Tablet\, Smart Phone and Internet Access. \n\nYour unique Bingo Card(s) will be emailed to each confirmed order/purchaser prior to the start of the tournament on Saturday afternoon\, 3/12.\nThis will include instructions to access our Unique game site and join in on the Virtual Zoom party!\n\nHaving Trouble Registering or have Questions?  Contact Michelle Hall – LilRaySunshine@att.net or 630-267-7543 \nPrizes:  There are prizes for every BINGO! \nZOOM ID: To be sent via email invite with your virtual bingo card(s). \nCheck out this demo video on how to use a virtual bingo card in a game:\n\nOur virtual bingo system for the night is packed with features and includes everything we need to run a virtual bingo game: \n\n\n\nRandomized bingo cards\nBingo caller & Automated winner verification\nTools to send out virtual bingo links to players\nVirtual bingo cards that can be played onscreen or printed out.
URL:https://elginalanoclub.com/event/st-pattys-virtual-bingo-fundraiser-10-games-3-12/
LOCATION:Zoom\, United States
CATEGORIES:EAC Event,Fundraiser,Open Event,Social
ATTACH;FMTTYPE=image/png:https://elginalanoclub.com/wp-content/uploads/2021/03/St-Patty-Bingo-Flyer.png
ORGANIZER;CN="Elgin Alano Club":MAILTO:elginalanoclub@gmail.com
END:VEVENT
BEGIN:VEVENT
DTSTART;TZID=America/Chicago:20220326T163000
DTEND;TZID=America/Chicago:20220326T200000
DTSTAMP:20260421T040401
CREATED:20220315T150338Z
LAST-MODIFIED:20220315T150407Z
UID:114379-1648312200-1648324800@elginalanoclub.com
SUMMARY:Texas Hold'em Poker Tournament
DESCRIPTION:SATURDAY NIGHT | March 26th\, 2022\n$10 Tournament Buy-In / $20 Re-Buy-In \nCHECK-IN AT 4:30 PM  |  TOURNAMENT STARTS AT 5:00 PM \n“Split the Pot”\nSnacks and Beverages will be available for purchase – All funds raised to benefit club improvement projects! \nQuestions? Call: Reiner A. 773-469-7496 or E-Mail: ElginAlanoClub@gmail.com
URL:https://elginalanoclub.com/event/texas-holdem-poker-tournament-5/
LOCATION:Elgin Alano Club\, 73 Riverside Drive\, Elgin\, IL\, 60120\, United States
CATEGORIES:EAC Event,Fundraiser,Open Event
ATTACH;FMTTYPE=image/png:https://elginalanoclub.com/wp-content/uploads/2022/03/Texas-Holdem-20220326.png
ORGANIZER;CN="Elgin Alano Club":MAILTO:elginalanoclub@gmail.com
END:VEVENT
END:VCALENDAR