BEGIN:VCALENDAR
VERSION:2.0
PRODID:-//Elgin Alano Club - ECPv6.15.20//NONSGML v1.0//EN
CALSCALE:GREGORIAN
METHOD:PUBLISH
X-WR-CALNAME:Elgin Alano Club
X-ORIGINAL-URL:https://elginalanoclub.com
X-WR-CALDESC:Events for Elgin Alano Club
REFRESH-INTERVAL;VALUE=DURATION:PT1H
X-Robots-Tag:noindex
X-PUBLISHED-TTL:PT1H
BEGIN:VTIMEZONE
TZID:America/Chicago
BEGIN:DAYLIGHT
TZOFFSETFROM:-0600
TZOFFSETTO:-0500
TZNAME:CDT
DTSTART:20210314T080000
END:DAYLIGHT
BEGIN:STANDARD
TZOFFSETFROM:-0500
TZOFFSETTO:-0600
TZNAME:CST
DTSTART:20211107T070000
END:STANDARD
BEGIN:DAYLIGHT
TZOFFSETFROM:-0600
TZOFFSETTO:-0500
TZNAME:CDT
DTSTART:20220313T080000
END:DAYLIGHT
BEGIN:STANDARD
TZOFFSETFROM:-0500
TZOFFSETTO:-0600
TZNAME:CST
DTSTART:20221106T070000
END:STANDARD
BEGIN:DAYLIGHT
TZOFFSETFROM:-0600
TZOFFSETTO:-0500
TZNAME:CDT
DTSTART:20230312T080000
END:DAYLIGHT
BEGIN:STANDARD
TZOFFSETFROM:-0500
TZOFFSETTO:-0600
TZNAME:CST
DTSTART:20231105T070000
END:STANDARD
END:VTIMEZONE
BEGIN:VEVENT
DTSTART;TZID=America/Chicago:20220514T180000
DTEND;TZID=America/Chicago:20220514T210000
DTSTAMP:20260421T010531
CREATED:20220509T175201Z
LAST-MODIFIED:20220509T234736Z
UID:114384-1652551200-1652562000@elginalanoclub.com
SUMMARY:Bingo Night!
DESCRIPTION:In-Person to BINGO Night is back by popular demand!\n—————————————————————- \nWINNERS SPLIT THE TAKE!\nONE FOR $1 PER GAME — SIX FOR $5 PER GAME \nWHEN Saturday\, May 14th\nGame Time: 7:00 – 8:30 PM\nWHERE Elgin Alano Club\n73 S. Riverside Dr.\, Downtown Elgin \nDOORS OPEN @ 6:00 PM\nFood\, Fellowship & Fun! \nALL AGES WELCOME – LIVE & IN-PERSON!\nHot Dogs & Chips\, Water\, Soda and Monster Drinks for Sale! \n\n\n\nMeal Combo\nIndividual\n\n\n\n\n$5 – Hot Dog\, Chips and Soda/Water\n\n\n\n\n$1 – Water/Soda\n$3 – Monster Energy Drink\n\n\n\n\n\nPROCEEDS BENEFITING\nEAC Building Fund & Improvement Projects \nMultiple Ways to Win per Game!\nFOR MORE INFORMATION:\nMichelle @ 630-267-7543
URL:https://elginalanoclub.com/event/bingo-night-3/
LOCATION:Elgin Alano Club\, 73 Riverside Drive\, Elgin\, IL\, 60120\, United States
CATEGORIES:EAC Event,Fundraiser,Open Event,Social
ATTACH;FMTTYPE=image/jpeg:https://elginalanoclub.com/wp-content/uploads/2022/05/20220514-Bingo.jpg
ORGANIZER;CN="Elgin Alano Club":MAILTO:elginalanoclub@gmail.com
END:VEVENT
BEGIN:VEVENT
DTSTART;TZID=America/Chicago:20220529T120000
DTEND;TZID=America/Chicago:20220529T140000
DTSTAMP:20260421T010531
CREATED:20200228T190050Z
LAST-MODIFIED:20220509T234945Z
UID:113863-1653825600-1653832800@elginalanoclub.com
SUMMARY:Sunday Open Speaker Brunch - Franz L.
DESCRIPTION:Sunday May 29\, 2022 – Sunday Open Speaker Brunch \nDoors Open @ Noon – Speaker @ 12:50 pm \nSpeaker Franz L. from Elgin\, IL will share his experience\, strength and hope with us! \n   $3 Members / $5 Non-Members / Kids ARE ALWAYS Free!  \nElgin Alano Club – 73 S. Riverside Drive\, Downtown Elgin\, IL \nBring a Dish to Pass and get in for FREE!
URL:https://elginalanoclub.com/event/sunday-open-speaker-brunch-44/
LOCATION:Elgin Alano Club\, 73 Riverside Drive\, Elgin\, IL\, 60120\, United States
CATEGORIES:EAC Event,Open Event,Open Speaker
ATTACH;FMTTYPE=image/png:https://elginalanoclub.com/wp-content/uploads/2020/02/May-Brunch-Flyer.png
ORGANIZER;CN="Elgin Alano Club":MAILTO:elginalanoclub@gmail.com
END:VEVENT
END:VCALENDAR