BEGIN:VCALENDAR
VERSION:2.0
PRODID:-//Elgin Alano Club - ECPv6.15.20//NONSGML v1.0//EN
CALSCALE:GREGORIAN
METHOD:PUBLISH
X-ORIGINAL-URL:https://elginalanoclub.com
X-WR-CALDESC:Events for Elgin Alano Club
REFRESH-INTERVAL;VALUE=DURATION:PT1H
X-Robots-Tag:noindex
X-PUBLISHED-TTL:PT1H
BEGIN:VTIMEZONE
TZID:America/Chicago
BEGIN:DAYLIGHT
TZOFFSETFROM:-0600
TZOFFSETTO:-0500
TZNAME:CDT
DTSTART:20210314T080000
END:DAYLIGHT
BEGIN:STANDARD
TZOFFSETFROM:-0500
TZOFFSETTO:-0600
TZNAME:CST
DTSTART:20211107T070000
END:STANDARD
BEGIN:DAYLIGHT
TZOFFSETFROM:-0600
TZOFFSETTO:-0500
TZNAME:CDT
DTSTART:20220313T080000
END:DAYLIGHT
BEGIN:STANDARD
TZOFFSETFROM:-0500
TZOFFSETTO:-0600
TZNAME:CST
DTSTART:20221106T070000
END:STANDARD
BEGIN:DAYLIGHT
TZOFFSETFROM:-0600
TZOFFSETTO:-0500
TZNAME:CDT
DTSTART:20230312T080000
END:DAYLIGHT
BEGIN:STANDARD
TZOFFSETFROM:-0500
TZOFFSETTO:-0600
TZNAME:CST
DTSTART:20231105T070000
END:STANDARD
END:VTIMEZONE
BEGIN:VEVENT
DTSTART;TZID=America/Chicago:20221008T180000
DTEND;TZID=America/Chicago:20221008T210000
DTSTAMP:20260420T181406
CREATED:20220925T153220Z
LAST-MODIFIED:20220925T153220Z
UID:114756-1665252000-1665262800@elginalanoclub.com
SUMMARY:Autumn Game Night & Social
DESCRIPTION:Saturday October 8th\nDoors open at 6:00pm\nPlay: Scrabble\, Boggle\, Dominoes\, Cribbage\, Spades\, Kings in Corner\, Conrhole\, Giant Jenga\, Water Balloons and more! \nFood: Hot Dogs\, Chips & Drinks will be available to purchase \n     Come learn a new game/skill or practice an old one! \n     Bring a friend\, kids or family & your own game to the fun! \nQuestions?  Art L. 224.805.6661 \nWhere: 73 S. Riverside Dr.\, Downtown Elgin\, IL \n 
URL:https://elginalanoclub.com/event/autumn-game-night-social/
LOCATION:Elgin Alano Club\, 73 Riverside Drive\, Elgin\, IL\, 60120\, United States
CATEGORIES:EAC Event,Fundraiser,Open Event,Social
ATTACH;FMTTYPE=image/png:https://elginalanoclub.com/wp-content/uploads/2022/09/EAC-Game-Night-Flyer-October-2022.png
ORGANIZER;CN="Elgin Alano Club":MAILTO:elginalanoclub@gmail.com
END:VEVENT
BEGIN:VEVENT
DTSTART;TZID=America/Chicago:20221029T170000
DTEND;TZID=America/Chicago:20221029T230000
DTSTAMP:20260420T181406
CREATED:20220925T150705Z
LAST-MODIFIED:20220925T205403Z
UID:114754-1667062800-1667084400@elginalanoclub.com
SUMMARY:Halloween Bash 2022
DESCRIPTION:Sober-tober sponsored by: The Women’s Program House \nElgin Alano Clubs’ \nHalloween Bash 2022\nDate: Saturday\, October 29\, 2022 \nSpeaker Meeting! Costume Contest with CASH PRIZES!!! And a Dance!!! \nTimeline of Event: \n\n5:00pm – Doors open\, food starts – Pulled Pork Sandwiches\, mingle and partake in some SPOOKIE Treats!\n6:00pm – Open Meeting – Speaker Panel on “Fears”\n7:00pm – Let the Bash Begin after the meeting!\n\nDancing / Music with DJ Mark until 10:00 pm\nCostume Contest w/ CASH prizes\n50/50 Raffle and other activities\n\n\n11:00pm Bash close – Let’s end Sober-tober with a bang!\n\nCost: $4 Members | $5 Non-Members | Bring a Dish to Pass and get in for free! \nLocation: Elgin Alano Club\, 73 S. Riverside Dr.\, Downtown Elgin\, IL \n\nQuestions? Gaby 847-710-6003 or Cameo 815-650-5053\n\nAll Are Welcome! – Costumes are Encouraged\, but not required! \n 
URL:https://elginalanoclub.com/event/halloween-bash-2022/
LOCATION:Elgin Alano Club\, 73 Riverside Drive\, Elgin\, IL\, 60120\, United States
CATEGORIES:EAC Event,Open Event,Open Speaker,Social
ATTACH;FMTTYPE=image/jpeg:https://elginalanoclub.com/wp-content/uploads/2022/09/Halloween-flyer-2022.jpg
ORGANIZER;CN="Elgin Alano Club":MAILTO:elginalanoclub@gmail.com
END:VEVENT
BEGIN:VEVENT
DTSTART;TZID=America/Chicago:20221030T120000
DTEND;TZID=America/Chicago:20221030T140000
DTSTAMP:20260420T181406
CREATED:20221018T145358Z
LAST-MODIFIED:20221018T145441Z
UID:114785-1667131200-1667138400@elginalanoclub.com
SUMMARY:Sunday Open Speaker Brunch - Dennis W
DESCRIPTION:Sunday October 30\, 2022 – Sunday Open Speaker Brunch (AA Speaker) \nDoors Open @ Noon – Speaker @ 12:50 pm \nSpeaker Dennis W. from Carol Stream\, IL will share his experience\, strength and hope with us! \n   $4 Members / $5 Non-Members / Kids ARE ALWAYS Free!  \nElgin Alano Club – 73 S. Riverside Drive\, Downtown Elgin\, IL
URL:https://elginalanoclub.com/event/sunday-open-speaker-brunch-dennis-w/
LOCATION:Elgin Alano Club\, 73 Riverside Drive\, Elgin\, IL\, 60120\, United States
CATEGORIES:EAC Event,Open Event,Open Speaker
ATTACH;FMTTYPE=image/png:https://elginalanoclub.com/wp-content/uploads/2022/10/EAC-Open-Speaker-Brunch-2022-OctNov.png
ORGANIZER;CN="Elgin Alano Club":MAILTO:elginalanoclub@gmail.com
END:VEVENT
END:VCALENDAR