BEGIN:VCALENDAR
VERSION:2.0
PRODID:-//Elgin Alano Club - ECPv6.15.20//NONSGML v1.0//EN
CALSCALE:GREGORIAN
METHOD:PUBLISH
X-WR-CALNAME:Elgin Alano Club
X-ORIGINAL-URL:https://elginalanoclub.com
X-WR-CALDESC:Events for Elgin Alano Club
REFRESH-INTERVAL;VALUE=DURATION:PT1H
X-Robots-Tag:noindex
X-PUBLISHED-TTL:PT1H
BEGIN:VTIMEZONE
TZID:America/Chicago
BEGIN:DAYLIGHT
TZOFFSETFROM:-0600
TZOFFSETTO:-0500
TZNAME:CDT
DTSTART:20210314T080000
END:DAYLIGHT
BEGIN:STANDARD
TZOFFSETFROM:-0500
TZOFFSETTO:-0600
TZNAME:CST
DTSTART:20211107T070000
END:STANDARD
BEGIN:DAYLIGHT
TZOFFSETFROM:-0600
TZOFFSETTO:-0500
TZNAME:CDT
DTSTART:20220313T080000
END:DAYLIGHT
BEGIN:STANDARD
TZOFFSETFROM:-0500
TZOFFSETTO:-0600
TZNAME:CST
DTSTART:20221106T070000
END:STANDARD
BEGIN:DAYLIGHT
TZOFFSETFROM:-0600
TZOFFSETTO:-0500
TZNAME:CDT
DTSTART:20230312T080000
END:DAYLIGHT
BEGIN:STANDARD
TZOFFSETFROM:-0500
TZOFFSETTO:-0600
TZNAME:CST
DTSTART:20231105T070000
END:STANDARD
END:VTIMEZONE
BEGIN:VEVENT
DTSTART;TZID=America/Chicago:20221124T110000
DTEND;TZID=America/Chicago:20221124T170000
DTSTAMP:20260420T165032
CREATED:20221018T144057Z
LAST-MODIFIED:20221110T145415Z
UID:114782-1669287600-1669309200@elginalanoclub.com
SUMMARY:Thanksgiving Open House
DESCRIPTION:Thanksgiving Day Open House\nThursday November 24th\, 2022\nTime: 11:00 am – 5:00 pm | Meetings – Fellowship – Fun! \nThe Elgin Alano Club will be OPEN for friends and visitors on Thanksgiving Day! We will be conducting a Series of Meetings in\nUnit C between 11:30 – 4:30pm\, plus the gift shop\, big screen TV and members lounge are open\, kids room activities and lots more! \nWe WILL be serving a meal this year\, huzzah! If you plan to bring a dish to share\, please sign up at the club\, so we do not ‘load up’ on any single item. \nBring a friend\, board game and attend one of our extra meetings for the day!  A perfect ‘escape’ from what many may find to be a stressful and/or tempting day with or without family.  \n\n\n\nMeeting Sessions \n\n11:30 – 12:30 (open)\n1:30 – 2:30 (open meeting)\n3:30 – 4:30 (open)\n\n\n\n\n\nALL ARE WELCOME!\nElgin Alano Club – 73 S. Riverside Drive\, Elgin\, Illinois 60120\nwww.ElginAlanoClub.org | Contact: Jim H. 224-629-6454 \nPlease Note: Our regular closed meeting will be in session at 1:30 pm in a private area of EAC.
URL:https://elginalanoclub.com/event/thanksgiving-open-house-3/
LOCATION:Elgin Alano Club\, 73 Riverside Drive\, Elgin\, IL\, 60120\, United States
CATEGORIES:EAC Event,Open Event
ATTACH;FMTTYPE=image/png:https://elginalanoclub.com/wp-content/uploads/2022/10/EAC-Thanksgiving-2022-1.png
ORGANIZER;CN="Elgin Alano Club":MAILTO:elginalanoclub@gmail.com
END:VEVENT
BEGIN:VEVENT
DTSTART;TZID=America/Chicago:20221127T120000
DTEND;TZID=America/Chicago:20221127T140000
DTSTAMP:20260420T165032
CREATED:20221018T145621Z
LAST-MODIFIED:20221018T145621Z
UID:114790-1669550400-1669557600@elginalanoclub.com
SUMMARY:Sunday Open Speaker Brunch - Dolly T.
DESCRIPTION:Sunday November 27\, 2022 – Sunday Open Speaker Brunch (Al-Anon Speaker) \nDoors Open @ Noon – Speaker @ 12:50 pm \nSpeaker Dolly T. from Elgin\, IL will share her experience\, strength and hope with us! \n   $4 Members / $5 Non-Members / Kids ARE ALWAYS Free!  \nElgin Alano Club – 73 S. Riverside Drive\, Downtown Elgin\, IL
URL:https://elginalanoclub.com/event/sunday-open-speaker-brunch-dolly-t/
LOCATION:Elgin Alano Club\, 73 Riverside Drive\, Elgin\, IL\, 60120\, United States
CATEGORIES:EAC Event,Open Event,Open Speaker
ATTACH;FMTTYPE=image/png:https://elginalanoclub.com/wp-content/uploads/2022/10/EAC-Open-Speaker-Brunch-2022-OctNov.png
ORGANIZER;CN="Elgin Alano Club":MAILTO:elginalanoclub@gmail.com
END:VEVENT
END:VCALENDAR