BEGIN:VCALENDAR
VERSION:2.0
PRODID:-//Elgin Alano Club - ECPv6.15.20//NONSGML v1.0//EN
CALSCALE:GREGORIAN
METHOD:PUBLISH
X-ORIGINAL-URL:https://elginalanoclub.com
X-WR-CALDESC:Events for Elgin Alano Club
REFRESH-INTERVAL;VALUE=DURATION:PT1H
X-Robots-Tag:noindex
X-PUBLISHED-TTL:PT1H
BEGIN:VTIMEZONE
TZID:America/Chicago
BEGIN:DAYLIGHT
TZOFFSETFROM:-0600
TZOFFSETTO:-0500
TZNAME:CDT
DTSTART:20210314T080000
END:DAYLIGHT
BEGIN:STANDARD
TZOFFSETFROM:-0500
TZOFFSETTO:-0600
TZNAME:CST
DTSTART:20211107T070000
END:STANDARD
BEGIN:DAYLIGHT
TZOFFSETFROM:-0600
TZOFFSETTO:-0500
TZNAME:CDT
DTSTART:20220313T080000
END:DAYLIGHT
BEGIN:STANDARD
TZOFFSETFROM:-0500
TZOFFSETTO:-0600
TZNAME:CST
DTSTART:20221106T070000
END:STANDARD
BEGIN:DAYLIGHT
TZOFFSETFROM:-0600
TZOFFSETTO:-0500
TZNAME:CDT
DTSTART:20230312T080000
END:DAYLIGHT
BEGIN:STANDARD
TZOFFSETFROM:-0500
TZOFFSETTO:-0600
TZNAME:CST
DTSTART:20231105T070000
END:STANDARD
BEGIN:DAYLIGHT
TZOFFSETFROM:-0600
TZOFFSETTO:-0500
TZNAME:CDT
DTSTART:20240310T080000
END:DAYLIGHT
BEGIN:STANDARD
TZOFFSETFROM:-0500
TZOFFSETTO:-0600
TZNAME:CST
DTSTART:20241103T070000
END:STANDARD
END:VTIMEZONE
BEGIN:VEVENT
DTSTART;TZID=America/Chicago:20221210T180000
DTEND;TZID=America/Chicago:20221210T230000
DTSTAMP:20260420T151456
CREATED:20221127T201205Z
LAST-MODIFIED:20221127T201205Z
UID:114807-1670695200-1670713200@elginalanoclub.com
SUMMARY:District 22 Christmas Party
DESCRIPTION:NIA District 22 Annual Christmas Party\nProudly presents… a festive fellowship dinner and holiday celebration! All are welcome! \nDate: Saturday\, December 10\, 2022\nTime: 6:00 – 11:00 pm \nZion Lutheran Church\n330 Griswold Street\, Elgin\, Illinois 60123 \nMain dish provided\, Please bring a dish to pass! \nALL ARE WELCOME! \n\nBring Yourself and your Family!\nDJ\, Raffles\, Kids Games and Live Entertainment\n\nFOOD & ACTIVITIES FOR THE CHILDREN!  \n\nSanta at 8:00pm\n\nQuestions? Please contact Wendy C.  (847) 810-9106 or Robin S. (847) 902-4236 \nFor more information visit: http://dist22.aa-nia.org/
URL:https://elginalanoclub.com/event/district-22-christmas-party-2/
LOCATION:Zion Lutheran Church\, 330 griswald st\, Elgin\, IL\, 60120\, United States
CATEGORIES:District 22,Open Event,Social
ATTACH;FMTTYPE=image/png:https://elginalanoclub.com/wp-content/uploads/2022/11/D22-Christmas-Party-20221210.png
END:VEVENT
BEGIN:VEVENT
DTSTART;TZID=America/Chicago:20221225T113000
DTEND;TZID=America/Chicago:20221225T163000
DTSTAMP:20260420T151456
CREATED:20221127T192301Z
LAST-MODIFIED:20221127T195155Z
UID:114804-1671967800-1671985800@elginalanoclub.com
SUMMARY:Christmas Open House
DESCRIPTION:Christmas Day Open House\nSunday\, December 25th\, 2022\nTime: 11:30 am – 4:30 pm | Meetings – Fellowship – Fun! \nThe Elgin Alano Club will be OPEN for friends and visitors on Christmas Day! We will be conducting a Series of Meetings in\nUnit C between Noon – 4:00pm\, plus the gift shop\, big screen TV and members lounge are open\, kids room activities and lots more! \nA Christmas Meal will be served this year! If you plan to bring a dish to share\, please sign up at the club\, so we do not ‘load up’ on any single item. \nBring a friend\, board game and attend one of our extra meetings for the day!  A perfect ‘escape’ from what many may find to be a stressful and/or tempting day with or without family.  \n  \n\n\n\nMeeting Sessions \n\n12:30 – 1:30 (open)\n2:20 – 3:30 (open)\n\n\n\n\n\nALL ARE WELCOME!\nElgin Alano Club – 73 S. Riverside Drive\, Elgin\, Illinois 60120\nwww.ElginAlanoClub.org | Contact: Jim H. 224-629-6454 \n 
URL:https://elginalanoclub.com/event/christmas-open-house-2/
LOCATION:Elgin Alano Club\, 73 Riverside Drive\, Elgin\, IL\, 60120\, United States
CATEGORIES:EAC Event,Open Event,Social
ATTACH;FMTTYPE=image/png:https://elginalanoclub.com/wp-content/uploads/2022/11/EAC-Christmas-Flyer-2022.png
ORGANIZER;CN="Elgin Alano Club":MAILTO:elginalanoclub@gmail.com
END:VEVENT
BEGIN:VEVENT
DTSTART;TZID=America/Chicago:20221231T180000
DTEND;TZID=America/Chicago:20230101T003000
DTSTAMP:20260420T151456
CREATED:20221217T175445Z
LAST-MODIFIED:20221217T175618Z
UID:114826-1672509600-1672533000@elginalanoclub.com
SUMMARY:New Year's Eve Countdown
DESCRIPTION:New Year’s Eve Open House\nSaturday December 31st\, 2022\nTime: 6:00 pm – 12:30 am | Countdown\, Alcathon\, Game Night\, Fellowship & Fun! \nThe Elgin Alano Club will be OPEN for friends and visitors on New Year’s Eve!  Open house begins at 6:00pm\, we’ll have coffee\, appetizers & light refreshments.  Sobriety count-down at midnight! \nWe will be conducting a Alcathon in Unit C between 7:30pm – 12:30 am to ring in 2023! \n\n7:30pm – The Magic of Step 3 (Art L.)\n8:30pm – Inclusivity (Brad S.)\n9:30pm – Candlelight Serenity (Eric L.)\n10:30pm – Staying Sober (Abby H.)\n\nBring a friend and/or the family\, a board game\, plus attend one of our extra meetings to bid farewell to 2022! The gift shop\, meeting room and members lounge will be open\, kids room activities and board games to play & lots more! \nA perfect ‘escape’ from what many may find to be a stressful and/or tempting day with or without family.  \nALL ARE WELCOME!\nQuestions? Contact Art L. 224-805-6661 or elginalanoclub@gmail.com
URL:https://elginalanoclub.com/event/new-years-eve-countdown-2/
LOCATION:Elgin Alano Club\, 73 Riverside Drive\, Elgin\, IL\, 60120\, United States
CATEGORIES:EAC Event,Open Event,Open Speaker,Social
ATTACH;FMTTYPE=image/png:https://elginalanoclub.com/wp-content/uploads/2022/12/New-Years-Eve-Countdown-2022-23.png
ORGANIZER;CN="Elgin Alano Club":MAILTO:elginalanoclub@gmail.com
END:VEVENT
END:VCALENDAR