BEGIN:VCALENDAR
VERSION:2.0
PRODID:-//Elgin Alano Club - ECPv6.15.20//NONSGML v1.0//EN
CALSCALE:GREGORIAN
METHOD:PUBLISH
X-WR-CALNAME:Elgin Alano Club
X-ORIGINAL-URL:https://elginalanoclub.com
X-WR-CALDESC:Events for Elgin Alano Club
REFRESH-INTERVAL;VALUE=DURATION:PT1H
X-Robots-Tag:noindex
X-PUBLISHED-TTL:PT1H
BEGIN:VTIMEZONE
TZID:America/Chicago
BEGIN:DAYLIGHT
TZOFFSETFROM:-0600
TZOFFSETTO:-0500
TZNAME:CDT
DTSTART:20220313T080000
END:DAYLIGHT
BEGIN:STANDARD
TZOFFSETFROM:-0500
TZOFFSETTO:-0600
TZNAME:CST
DTSTART:20221106T070000
END:STANDARD
BEGIN:DAYLIGHT
TZOFFSETFROM:-0600
TZOFFSETTO:-0500
TZNAME:CDT
DTSTART:20230312T080000
END:DAYLIGHT
BEGIN:STANDARD
TZOFFSETFROM:-0500
TZOFFSETTO:-0600
TZNAME:CST
DTSTART:20231105T070000
END:STANDARD
BEGIN:DAYLIGHT
TZOFFSETFROM:-0600
TZOFFSETTO:-0500
TZNAME:CDT
DTSTART:20240310T080000
END:DAYLIGHT
BEGIN:STANDARD
TZOFFSETFROM:-0500
TZOFFSETTO:-0600
TZNAME:CST
DTSTART:20241103T070000
END:STANDARD
END:VTIMEZONE
BEGIN:VEVENT
DTSTART;TZID=America/Chicago:20230311T163000
DTEND;TZID=America/Chicago:20230311T203000
DTSTAMP:20260420T112424
CREATED:20230123T183757Z
LAST-MODIFIED:20230123T184211Z
UID:114854-1678552200-1678566600@elginalanoclub.com
SUMMARY:Texas Hold’em Poker Tournament
DESCRIPTION:SATURDAY NIGHT | March 11th\, 2023\n$10 Tournament Buy-In / $20 Re-Buy-In \nCHECK-IN AT 4:30 PM  |  TOURNAMENT STARTS AT 5:00 PM \n“Split the Pot”\nSnacks and Beverages will be available for purchase – All funds raised to benefit club improvement projects! \nQuestions? Call: Reiner A. 773-469-7496 or E-Mail: ElginAlanoClub@gmail.com
URL:https://elginalanoclub.com/event/texas-holdem-poker-tournament-7/
LOCATION:Elgin Alano Club\, 73 Riverside Drive\, Elgin\, IL\, 60120\, United States
CATEGORIES:EAC Event,Fundraiser,Open Event,Social
ATTACH;FMTTYPE=image/png:https://elginalanoclub.com/wp-content/uploads/2023/01/Texas-Hold-em-Poker-Flyer-20230311-e1674499316664.png
ORGANIZER;CN="Elgin Alano Club":MAILTO:elginalanoclub@gmail.com
END:VEVENT
END:VCALENDAR