BEGIN:VCALENDAR
VERSION:2.0
PRODID:-//Elgin Alano Club - ECPv6.15.20//NONSGML v1.0//EN
CALSCALE:GREGORIAN
METHOD:PUBLISH
X-ORIGINAL-URL:https://elginalanoclub.com
X-WR-CALDESC:Events for Elgin Alano Club
REFRESH-INTERVAL;VALUE=DURATION:PT1H
X-Robots-Tag:noindex
X-PUBLISHED-TTL:PT1H
BEGIN:VTIMEZONE
TZID:America/Chicago
BEGIN:DAYLIGHT
TZOFFSETFROM:-0600
TZOFFSETTO:-0500
TZNAME:CDT
DTSTART:20220313T080000
END:DAYLIGHT
BEGIN:STANDARD
TZOFFSETFROM:-0500
TZOFFSETTO:-0600
TZNAME:CST
DTSTART:20221106T070000
END:STANDARD
BEGIN:DAYLIGHT
TZOFFSETFROM:-0600
TZOFFSETTO:-0500
TZNAME:CDT
DTSTART:20230312T080000
END:DAYLIGHT
BEGIN:STANDARD
TZOFFSETFROM:-0500
TZOFFSETTO:-0600
TZNAME:CST
DTSTART:20231105T070000
END:STANDARD
BEGIN:DAYLIGHT
TZOFFSETFROM:-0600
TZOFFSETTO:-0500
TZNAME:CDT
DTSTART:20240310T080000
END:DAYLIGHT
BEGIN:STANDARD
TZOFFSETFROM:-0500
TZOFFSETTO:-0600
TZNAME:CST
DTSTART:20241103T070000
END:STANDARD
END:VTIMEZONE
BEGIN:VEVENT
DTSTART;TZID=America/Chicago:20230805T173000
DTEND;TZID=America/Chicago:20230805T200000
DTSTAMP:20260420T045602
CREATED:20230711T215815Z
LAST-MODIFIED:20230816T212713Z
UID:114925-1691256600-1691265600@elginalanoclub.com
SUMMARY:1st Saturday Open Speaker Meeting - Michelle "Slugger"
DESCRIPTION:Saturday Open Speaker Meetings*\nEvery 1st and 3rd Saturday of the month.\n________ \nSaturday\, August 5th @ 7pm \nMichelle AKA “Slugger” from Roselle\, IL \n________ \nElgin Alano Club \n73 S. Riverside Dr.\, Downtown Elgin\, Illinois \n  \n*During the winter months\, we will have smoked pulled pork dinners available from 5:30 – 7:00 pm.  Please come early for the ‘Meeting before the Meeting’ for food\, fellowship and fun! 
URL:https://elginalanoclub.com/event/1st-saturday-open-speaker-meeting-michelle-slugger/
LOCATION:Elgin Alano Club\, 73 Riverside Drive\, Elgin\, IL\, 60120\, United States
CATEGORIES:District 22,EAC Event,Open Event,Open Speaker
ATTACH;FMTTYPE=image/png:https://elginalanoclub.com/wp-content/uploads/2023/07/Saturday-Night-Open-Spring-Summer.png
ORGANIZER;CN="Elgin Alano Club":MAILTO:elginalanoclub@gmail.com
END:VEVENT
BEGIN:VEVENT
DTSTART;TZID=America/Chicago:20230812T163000
DTEND;TZID=America/Chicago:20230812T203000
DTSTAMP:20260420T045602
CREATED:20230712T015337Z
LAST-MODIFIED:20230712T015658Z
UID:114947-1691857800-1691872200@elginalanoclub.com
SUMMARY:Texas Hold’em Poker Tournament
DESCRIPTION:SATURDAY NIGHT | August 12th\, 2023\n$10 Tournament Buy-In / $20 Re-Buy-In \nCHECK-IN AT 4:30 PM  |  TOURNAMENT STARTS AT 5:00 PM \n“Split the Pot”\nSnacks and Beverages will be available for purchase – All funds raised to benefit club improvement projects! \nQuestions? Call: Reiner A. 773-469-7496 or E-Mail: ElginAlanoClub@gmail.com
URL:https://elginalanoclub.com/event/texas-holdem-poker-tournament-9/
LOCATION:Elgin Alano Club\, 73 Riverside Drive\, Elgin\, IL\, 60120\, United States
CATEGORIES:EAC Event,Fundraiser,Open Event,Social
ATTACH;FMTTYPE=image/png:https://elginalanoclub.com/wp-content/uploads/2023/07/20230812-Texas-Holdem-Poker-Flyer.png
ORGANIZER;CN="Elgin Alano Club":MAILTO:elginalanoclub@gmail.com
END:VEVENT
BEGIN:VEVENT
DTSTART;TZID=America/Chicago:20230827T100000
DTEND;TZID=America/Chicago:20230827T160000
DTSTAMP:20260420T045602
CREATED:20230711T231806Z
LAST-MODIFIED:20230711T232024Z
UID:114935-1693130400-1693152000@elginalanoclub.com
SUMMARY:District 22 Summer Picnic
DESCRIPTION:DISTRICT 22 SUMMER PICNIC – AUGUST 27\, 2023\n10:00 AM – 4:00 PM\nWING PARK – Pavilion #1\n1010 Wing Street\, Elgin\, Illinois 60123\n──── \nALL ARE WELCOME!\nPlease bring your family\, Lawn Chairs and side dishes/sweets are always welcome! \nFOOD & GAMES!\nBags Tournament\, Music\, & much more! \nRAFFLES & PRIZES!\nVarious Raffle Table Items and a 50/50 to be Won! \nACTIVITIES FOR THE CHILDREN!\nKids and Adult Games \n──── \nAA and Al-Anon Speaker at 1:00 PM \nJim H. and Colleen H. \n──── \nThis event is self-supporting and any donations will be used for future AA fellowship events. \nMAIN DISH: To be supplied by the Picnic Committee\nBEVERAGES: Water\, Soda & Coffee to be provided \nPlease bring a lawn chair(s) & a dish to Pass! \nLast Name: A-M Salad  | N-Z Dessert \n──── \nCONTACTS\nCollette H. 847-630-5478\nLaura S. 847-687-837
URL:https://elginalanoclub.com/event/district-22-summer-picnic-6/
LOCATION:Wing Park\, 1010 Wing Street\, Elgin\, IL\, 60123\, United States
CATEGORIES:District 22,Open Event,Social
ATTACH;FMTTYPE=image/png:https://elginalanoclub.com/wp-content/uploads/2023/07/2023-Dist22-Summer-Picnic.png
END:VEVENT
END:VCALENDAR