BEGIN:VCALENDAR
VERSION:2.0
PRODID:-//Elgin Alano Club - ECPv6.15.20//NONSGML v1.0//EN
CALSCALE:GREGORIAN
METHOD:PUBLISH
X-ORIGINAL-URL:https://elginalanoclub.com
X-WR-CALDESC:Events for Elgin Alano Club
REFRESH-INTERVAL;VALUE=DURATION:PT1H
X-Robots-Tag:noindex
X-PUBLISHED-TTL:PT1H
BEGIN:VTIMEZONE
TZID:America/Chicago
BEGIN:DAYLIGHT
TZOFFSETFROM:-0600
TZOFFSETTO:-0500
TZNAME:CDT
DTSTART:20230312T080000
END:DAYLIGHT
BEGIN:STANDARD
TZOFFSETFROM:-0500
TZOFFSETTO:-0600
TZNAME:CST
DTSTART:20231105T070000
END:STANDARD
BEGIN:DAYLIGHT
TZOFFSETFROM:-0600
TZOFFSETTO:-0500
TZNAME:CDT
DTSTART:20240310T080000
END:DAYLIGHT
BEGIN:STANDARD
TZOFFSETFROM:-0500
TZOFFSETTO:-0600
TZNAME:CST
DTSTART:20241103T070000
END:STANDARD
BEGIN:DAYLIGHT
TZOFFSETFROM:-0600
TZOFFSETTO:-0500
TZNAME:CDT
DTSTART:20250309T080000
END:DAYLIGHT
BEGIN:STANDARD
TZOFFSETFROM:-0500
TZOFFSETTO:-0600
TZNAME:CST
DTSTART:20251102T070000
END:STANDARD
END:VTIMEZONE
BEGIN:VEVENT
DTSTART;TZID=America/Chicago:20240309T163000
DTEND;TZID=America/Chicago:20240309T203000
DTSTAMP:20260419T194726
CREATED:20240202T004740Z
LAST-MODIFIED:20240202T005504Z
UID:115066-1710001800-1710016200@elginalanoclub.com
SUMMARY:Texas Hold’em Poker Tournament
DESCRIPTION:SATURDAY NIGHT | March 9th\, 2024\n$10 Tournament Buy-In / $20 Re-Buy-In \nCHECK-IN AT 4:30 PM  |  TOURNAMENT STARTS AT 5:00 PM \n“Split the Pot”\nSnacks and Beverages will be available for purchase – All funds raised to benefit club improvement projects! \nQuestions? Call: Reiner A. 773-469-7496 or E-Mail: ElginAlanoClub@gmail.com
URL:https://elginalanoclub.com/event/texas-holdem-poker-tournament-10/
LOCATION:Elgin Alano Club\, 73 Riverside Drive\, Elgin\, IL\, 60120\, United States
CATEGORIES:EAC Event,Fundraiser,Open Event,Social
ATTACH;FMTTYPE=image/png:https://elginalanoclub.com/wp-content/uploads/2024/02/20240309-Texas-Holdem-Poker-Flyer.png
ORGANIZER;CN="Elgin Alano Club":MAILTO:elginalanoclub@gmail.com
END:VEVENT
BEGIN:VEVENT
DTSTART;TZID=America/Chicago:20240324T120000
DTEND;TZID=America/Chicago:20240324T140000
DTSTAMP:20260419T194726
CREATED:20240102T220141Z
LAST-MODIFIED:20240312T221529Z
UID:115054-1711281600-1711288800@elginalanoclub.com
SUMMARY:Sunday Open Speaker Brunch – Jacqueline M.
DESCRIPTION:Sunday March 24th\, 2024 – Sunday Open Speaker Brunch  \nDoors Open @ Noon – Speaker @ 1:00 pm \nSpeaker Jacqueline M. from Elgin\, IL will share her experience\, strength and hope with us! \n   $4 Members / $5 Non-Members / Kids ARE ALWAYS Free!  \nElgin Alano Club – 73 S. Riverside Drive\, Downtown Elgin\, IL
URL:https://elginalanoclub.com/event/sunday-open-speaker-brunch-jacqueline-m/
LOCATION:Elgin Alano Club\, 73 Riverside Drive\, Elgin\, IL\, 60120\, United States
CATEGORIES:EAC Event,Open Event,Open Speaker
ATTACH;FMTTYPE=image/png:https://elginalanoclub.com/wp-content/uploads/2024/01/EAC-Open-Speaker-Brunch-20240324-Jacqueline-M.png
ORGANIZER;CN="Elgin Alano Club":MAILTO:elginalanoclub@gmail.com
END:VEVENT
END:VCALENDAR