BEGIN:VCALENDAR
VERSION:2.0
PRODID:-//Elgin Alano Club - ECPv6.15.20//NONSGML v1.0//EN
CALSCALE:GREGORIAN
METHOD:PUBLISH
X-ORIGINAL-URL:https://elginalanoclub.com
X-WR-CALDESC:Events for Elgin Alano Club
REFRESH-INTERVAL;VALUE=DURATION:PT1H
X-Robots-Tag:noindex
X-PUBLISHED-TTL:PT1H
BEGIN:VTIMEZONE
TZID:America/Chicago
BEGIN:DAYLIGHT
TZOFFSETFROM:-0600
TZOFFSETTO:-0500
TZNAME:CDT
DTSTART:20230312T080000
END:DAYLIGHT
BEGIN:STANDARD
TZOFFSETFROM:-0500
TZOFFSETTO:-0600
TZNAME:CST
DTSTART:20231105T070000
END:STANDARD
BEGIN:DAYLIGHT
TZOFFSETFROM:-0600
TZOFFSETTO:-0500
TZNAME:CDT
DTSTART:20240310T080000
END:DAYLIGHT
BEGIN:STANDARD
TZOFFSETFROM:-0500
TZOFFSETTO:-0600
TZNAME:CST
DTSTART:20241103T070000
END:STANDARD
BEGIN:DAYLIGHT
TZOFFSETFROM:-0600
TZOFFSETTO:-0500
TZNAME:CDT
DTSTART:20250309T080000
END:DAYLIGHT
BEGIN:STANDARD
TZOFFSETFROM:-0500
TZOFFSETTO:-0600
TZNAME:CST
DTSTART:20251102T070000
END:STANDARD
END:VTIMEZONE
BEGIN:VEVENT
DTSTART;TZID=America/Chicago:20240510T183000
DTEND;TZID=America/Chicago:20240510T220000
DTSTAMP:20260419T171615
CREATED:20240420T192000Z
LAST-MODIFIED:20240421T151113Z
UID:115122-1715365800-1715378400@elginalanoclub.com
SUMMARY:Spring Game Night & Social
DESCRIPTION:Friday May 10th\nPlay-Time: 7:00 – 10:00pm\n(Doors open at 6:30pm) \nPlay: Backgammon\, Dominos\, Mexican Train\, Uno\, Scrabble\, Giant Jenga\, \, Bring Your Own Game! \nFood: Snacks & Drinks will be available to purchase \nExtras: 50/50 Raffle \n     Come learn a new game/skill or practice an old one! \n     Bring a friend\, kids or family & your own game to the fun! \nWhere: 73 S. Riverside Dr.\, Downtown Elgin\, IL
URL:https://elginalanoclub.com/event/spring-game-night-social/
LOCATION:Elgin Alano Club\, 73 Riverside Drive\, Elgin\, IL\, 60120\, United States
CATEGORIES:EAC Event,Fundraiser,Open Event,Social
ATTACH;FMTTYPE=image/jpeg:https://elginalanoclub.com/wp-content/uploads/2024/04/EAC-Game-Night-Flyer-20240510_web.jpg
ORGANIZER;CN="Elgin Alano Club":MAILTO:elginalanoclub@gmail.com
END:VEVENT
BEGIN:VEVENT
DTSTART;TZID=America/Chicago:20240526T120000
DTEND;TZID=America/Chicago:20240526T140000
DTSTAMP:20260419T171615
CREATED:20240503T174727Z
LAST-MODIFIED:20240503T175023Z
UID:115134-1716724800-1716732000@elginalanoclub.com
SUMMARY:Sunday Open Speaker Brunch – Rob S.
DESCRIPTION:Sunday May 26th\, 2024 – Sunday Open Speaker Brunch  \nDoors Open @ Noon – Speaker @ 1:00 pm \nSpeaker Rob S. from Elgin\, IL will share her experience\, strength and hope with us! \n   $4 Members / $5 Non-Members / Kids ARE ALWAYS Free!  \nElgin Alano Club – 73 S. Riverside Drive\, Downtown Elgin\, IL
URL:https://elginalanoclub.com/event/sunday-open-speaker-brunch-rob-s/
LOCATION:Elgin Alano Club\, 73 Riverside Drive\, Elgin\, IL\, 60120\, United States
CATEGORIES:EAC Event,Fundraiser,Open Event,Open Speaker
ATTACH;FMTTYPE=image/png:https://elginalanoclub.com/wp-content/uploads/2024/05/EAC-Open-Speaker-Brunch-20240526-Rob-S.png
ORGANIZER;CN="Elgin Alano Club":MAILTO:elginalanoclub@gmail.com
END:VEVENT
END:VCALENDAR