BEGIN:VCALENDAR
VERSION:2.0
PRODID:-//Elgin Alano Club - ECPv6.15.20//NONSGML v1.0//EN
CALSCALE:GREGORIAN
METHOD:PUBLISH
X-ORIGINAL-URL:https://elginalanoclub.com
X-WR-CALDESC:Events for Elgin Alano Club
REFRESH-INTERVAL;VALUE=DURATION:PT1H
X-Robots-Tag:noindex
X-PUBLISHED-TTL:PT1H
BEGIN:VTIMEZONE
TZID:America/Chicago
BEGIN:DAYLIGHT
TZOFFSETFROM:-0600
TZOFFSETTO:-0500
TZNAME:CDT
DTSTART:20240310T080000
END:DAYLIGHT
BEGIN:STANDARD
TZOFFSETFROM:-0500
TZOFFSETTO:-0600
TZNAME:CST
DTSTART:20241103T070000
END:STANDARD
BEGIN:DAYLIGHT
TZOFFSETFROM:-0600
TZOFFSETTO:-0500
TZNAME:CDT
DTSTART:20250309T080000
END:DAYLIGHT
BEGIN:STANDARD
TZOFFSETFROM:-0500
TZOFFSETTO:-0600
TZNAME:CST
DTSTART:20251102T070000
END:STANDARD
BEGIN:DAYLIGHT
TZOFFSETFROM:-0600
TZOFFSETTO:-0500
TZNAME:CDT
DTSTART:20260308T080000
END:DAYLIGHT
BEGIN:STANDARD
TZOFFSETFROM:-0500
TZOFFSETTO:-0600
TZNAME:CST
DTSTART:20261101T070000
END:STANDARD
BEGIN:DAYLIGHT
TZOFFSETFROM:-0600
TZOFFSETTO:-0500
TZNAME:CDT
DTSTART:20270314T080000
END:DAYLIGHT
BEGIN:STANDARD
TZOFFSETFROM:-0500
TZOFFSETTO:-0600
TZNAME:CST
DTSTART:20271107T070000
END:STANDARD
END:VTIMEZONE
BEGIN:VEVENT
DTSTART;TZID=America/Chicago:20251206T183000
DTEND;TZID=America/Chicago:20251206T200000
DTSTAMP:20260424T230313
CREATED:20251201T000858Z
LAST-MODIFIED:20251201T001531Z
UID:115581-1765045800-1765051200@elginalanoclub.com
SUMMARY:1st Saturday Open Speaker Meeting – Jewel O.
DESCRIPTION:Saturday Open Speaker Meetings*\nEvery 1st\, 2nd and 3rd Saturday of the month.\n________ \nSaturday\, December 6th @ 7pm \n     Jewel O. from We are not Dead Yet Group \n________ \nElgin Alano Club \n73 S. Riverside Dr.\, Downtown Elgin\, Illinois \n________ \nPlease come early for the “Meeting before the Meeting” for fellowship. \n 
URL:https://elginalanoclub.com/event/1st-saturday-open-speaker-meeting-jewel-o/
LOCATION:Elgin Alano Club\, 73 Riverside Drive\, Elgin\, IL\, 60120\, United States
CATEGORIES:District 22,EAC Event,Open Speaker
ATTACH;FMTTYPE=image/png:https://elginalanoclub.com/wp-content/uploads/2025/11/SAT-NIGHT-OPEN-WINTER-FORMAT-1.png
ORGANIZER;CN="Elgin Alano Club":MAILTO:elginalanoclub@gmail.com
END:VEVENT
BEGIN:VEVENT
DTSTART;TZID=America/Chicago:20251225T113000
DTEND;TZID=America/Chicago:20251225T163000
DTSTAMP:20260424T230313
CREATED:20251117T004349Z
LAST-MODIFIED:20251117T004702Z
UID:115566-1766662200-1766680200@elginalanoclub.com
SUMMARY:Christmas Day Open House
DESCRIPTION:Christmas Day Open House\nThursday\, December 25th\, 2025\nTime: 11:30 am – 4:30 pm | Meetings – Fellowship – Fun! \nThe Elgin Alano Club will be OPEN for friends and visitors on Christmas Day! We will be conducting a Series of Meetings in Unit C between 12:00  – 4:00 pm\, plus the gift shop\, and members lounge are open\, kids room activities and lots more! \nA Christmas Meal will be served! If you plan to bring a dish to share\, please sign up at the club\, so we do not ‘load up’ on any single item. \nBring a friend\, board game and attend one of our extra meetings for the day!  A perfect ‘escape’ from what many may find to be a stressful and/or tempting day with or without family.  \n\n\n\nMeeting Sessions \n\n12:00 – 1:00 (open)\n1:30 – 2:30 (closed)\n3:00 – 4:00 (open)\n\n\n\n\n\nALL ARE WELCOME!\nElgin Alano Club – 73 S. Riverside Drive\, Elgin\, Illinois 60120\nwww.ElginAlanoClub.com | Contact: Jim H. 224-629-6454
URL:https://elginalanoclub.com/event/christmas-day-open-house-8/
LOCATION:Elgin Alano Club\, 73 Riverside Drive\, Elgin\, IL\, 60120\, United States
CATEGORIES:EAC Event,Open Event,Social
ATTACH;FMTTYPE=image/png:https://elginalanoclub.com/wp-content/uploads/2025/11/Christmas-Open-House-2025.png
ORGANIZER;CN="Elgin Alano Club":MAILTO:elginalanoclub@gmail.com
END:VEVENT
BEGIN:VEVENT
DTSTART;TZID=America/Chicago:20260125T120000
DTEND;TZID=America/Chicago:20260125T140000
DTSTAMP:20260424T230313
CREATED:20251214T022257Z
LAST-MODIFIED:20251214T022714Z
UID:115591-1769342400-1769349600@elginalanoclub.com
SUMMARY:Sunday Open Speaker Brunch – Tim H.
DESCRIPTION:Sunday January 25\, 2026 – Sunday Open Speaker Brunch  \nDoors Open @ Noon – Speaker @ 1:00 pm \nSpeaker Tim H. will share his experience\, strength and hope with us! \n   $4 Members / $5 Non-Members / Kids ARE ALWAYS Free!  \nElgin Alano Club – 73 S. Riverside Drive\, Downtown Elgin\, IL
URL:https://elginalanoclub.com/event/sunday-open-speaker-brunch-tim-h/
LOCATION:Elgin Alano Club\, 73 Riverside Drive\, Elgin\, IL\, 60120\, United States
CATEGORIES:EAC Event,Fundraiser,Open Speaker
ATTACH;FMTTYPE=image/png:https://elginalanoclub.com/wp-content/uploads/2025/12/EAC-Open-Speaker-Brunch-20260125-Tim-H.png
ORGANIZER;CN="Elgin Alano Club":MAILTO:elginalanoclub@gmail.com
END:VEVENT
BEGIN:VEVENT
DTSTART;TZID=America/Chicago:20260131T180000
DTEND;TZID=America/Chicago:20260131T203000
DTSTAMP:20260424T230313
CREATED:20251130T233041Z
LAST-MODIFIED:20251202T230336Z
UID:115570-1769882400-1769891400@elginalanoclub.com
SUMMARY:Winter Bingo Night
DESCRIPTION:BINGO Night is back in 2026\, by popular demand!\n—————————————————————- \nWINNERS SPLIT THE TAKE!\nONE FOR $1 PER GAME — SIX FOR $5 PER GAME \nWHEN Saturday\, January 31 \nGame Time Starts @ 7 PM\nWHERE Elgin Alano Club\n73 S. Riverside Dr.\, Downtown Elgin \nDOORS OPEN @ 6:00 PM\nFood\, Fellowship & Fun! \nALL AGES WELCOME \nCandy\, Snacks\, Water & Soda… plus\, Monster Drinks for Sale! \nCome for the Fellowship & stay to Play! \n\nBring your family and friends for a fun-filled evening of games and exciting prizes.\nFood & Drinks will be available for sale\, bring your own lucky charm!\n\nPROCEEDS BENEFITING\nEAC Building Fund & Improvement Projects \nMultiple Ways to Win per Game!\nFOR MORE INFORMATION:\nMichelle @ 630-267-7543 \nRon @ 630-215-6600
URL:https://elginalanoclub.com/event/winter-bingo-night-2/
LOCATION:Elgin Alano Club\, 73 Riverside Drive\, Elgin\, IL\, 60120\, United States
CATEGORIES:EAC Event,Fundraiser,Open Event,Social
ATTACH;FMTTYPE=image/png:https://elginalanoclub.com/wp-content/uploads/2025/11/Winter-Bingo-Night-2026-update.png
ORGANIZER;CN="Elgin Alano Club":MAILTO:elginalanoclub@gmail.com
END:VEVENT
BEGIN:VEVENT
DTSTART;TZID=America/Chicago:20260222T120000
DTEND;TZID=America/Chicago:20260222T140000
DTSTAMP:20260424T230313
CREATED:20260118T204159Z
LAST-MODIFIED:20260118T210208Z
UID:115597-1771761600-1771768800@elginalanoclub.com
SUMMARY:Sunday Open Speaker Brunch – Ted P.
DESCRIPTION:Sunday February 22\, 2026 – Sunday Open Speaker Brunch  \nDoors Open @ Noon – Speaker @ 1:00 pm \nSpeaker Ted P. will share his experience\, strength and hope with us! \n   $4 Members / $5 Non-Members / Kids ARE ALWAYS Free!  \nElgin Alano Club – 73 S. Riverside Drive\, Downtown Elgin\, IL
URL:https://elginalanoclub.com/event/sunday-open-speaker-brunch-ted-p/
LOCATION:Elgin Alano Club\, 73 Riverside Drive\, Elgin\, IL\, 60120\, United States
CATEGORIES:EAC Event,Fundraiser,Open Speaker
ATTACH;FMTTYPE=image/png:https://elginalanoclub.com/wp-content/uploads/2026/01/EAC-Open-Speaker-Brunch-20260222-Ted-P.png
ORGANIZER;CN="Elgin Alano Club":MAILTO:elginalanoclub@gmail.com
END:VEVENT
BEGIN:VEVENT
DTSTART;TZID=America/Chicago:20260329T120000
DTEND;TZID=America/Chicago:20260329T140000
DTSTAMP:20260424T230313
CREATED:20260221T021904Z
LAST-MODIFIED:20260221T022152Z
UID:115601-1774785600-1774792800@elginalanoclub.com
SUMMARY:Sunday Open Speaker Brunch – Seig K.
DESCRIPTION:Sunday March 29\, 2026 – Sunday Open Speaker Brunch  \nDoors Open @ Noon – Speaker @ 1:00 pm \nSpeaker Seig K. will share his experience\, strength and hope with us! \n   $4 Members / $5 Non-Members / Kids ARE ALWAYS Free!  \nElgin Alano Club – 73 S. Riverside Drive\, Downtown Elgin\, IL
URL:https://elginalanoclub.com/event/sunday-open-speaker-brunch-seig-k/
LOCATION:Elgin Alano Club\, 73 Riverside Drive\, Elgin\, IL\, 60120\, United States
CATEGORIES:EAC Event,Fundraiser,Open Speaker
ATTACH;FMTTYPE=image/png:https://elginalanoclub.com/wp-content/uploads/2026/02/EAC-Open-Speaker-Brunch-20260329-Seig-K.png
ORGANIZER;CN="Elgin Alano Club":MAILTO:elginalanoclub@gmail.com
END:VEVENT
BEGIN:VEVENT
DTSTART;TZID=America/Chicago:20260426T120000
DTEND;TZID=America/Chicago:20260426T140000
DTSTAMP:20260424T230313
CREATED:20260329T021754Z
LAST-MODIFIED:20260408T194755Z
UID:115620-1777204800-1777212000@elginalanoclub.com
SUMMARY:Sunday Open Speaker Brunch – Jim P.
DESCRIPTION:Sunday April 26\, 2026 – Sunday Open Speaker Brunch  \nDoors Open @ Noon – Speaker @ 1:00 pm \nSpeaker Jim P. will share his experience\, strength and hope with us! \n   $4 Members / $5 Non-Members / Kids ARE ALWAYS Free!  \nElgin Alano Club – 73 S. Riverside Drive\, Downtown Elgin\, IL
URL:https://elginalanoclub.com/event/sunday-open-speaker-brunch-jim-p/
LOCATION:Elgin Alano Club\, 73 Riverside Drive\, Elgin\, IL\, 60120\, United States
CATEGORIES:EAC Event,Fundraiser,Open Speaker
ATTACH;FMTTYPE=image/png:https://elginalanoclub.com/wp-content/uploads/2026/03/EAC-Open-Speaker-Brunch-20260426-Jim-P.png
ORGANIZER;CN="Elgin Alano Club":MAILTO:elginalanoclub@gmail.com
END:VEVENT
BEGIN:VEVENT
DTSTART;TZID=America/Chicago:20260530T170000
DTEND;TZID=America/Chicago:20260530T200000
DTSTAMP:20260424T230313
CREATED:20260223T004641Z
LAST-MODIFIED:20260308T223523Z
UID:115611-1780160400-1780171200@elginalanoclub.com
SUMMARY:Welcome Summer Bash 2026
DESCRIPTION:Date: Saturday May 30th \nTime: 5:00 – 8:00 pm \nFundraiser: EAC Building Improvements Fund \nSchedule of Events: Doors open at 5:00 pm \n\nPork Chop Dinner at 6:00 pm\nSpeaker Dan M. at 7:00 pm\n\n50/50 Raffle and more!\n\n\n\nLocation: Elgin Alano Club\, 73 S. Riverside Dr\, Elgin\, IL 60120 \nTickets:  $9 Members | $5 Kids | $10 Non-Members
URL:https://elginalanoclub.com/event/welcome-summer-bash-2026/
LOCATION:Elgin Alano Club\, 73 Riverside Drive\, Elgin\, IL\, 60120\, United States
CATEGORIES:EAC Event,Fundraiser,Open Speaker
ATTACH;FMTTYPE=image/png:https://elginalanoclub.com/wp-content/uploads/2026/02/Welcome-Summer-Bash-2026-Event-1.png
ORGANIZER;CN="Elgin Alano Club":MAILTO:elginalanoclub@gmail.com
END:VEVENT
END:VCALENDAR