BEGIN:VCALENDAR
VERSION:2.0
PRODID:-//Elgin Alano Club - ECPv6.15.20//NONSGML v1.0//EN
CALSCALE:GREGORIAN
METHOD:PUBLISH
X-ORIGINAL-URL:https://elginalanoclub.com
X-WR-CALDESC:Events for Elgin Alano Club
REFRESH-INTERVAL;VALUE=DURATION:PT1H
X-Robots-Tag:noindex
X-PUBLISHED-TTL:PT1H
BEGIN:VTIMEZONE
TZID:America/Chicago
BEGIN:DAYLIGHT
TZOFFSETFROM:-0600
TZOFFSETTO:-0500
TZNAME:CDT
DTSTART:20240310T080000
END:DAYLIGHT
BEGIN:STANDARD
TZOFFSETFROM:-0500
TZOFFSETTO:-0600
TZNAME:CST
DTSTART:20241103T070000
END:STANDARD
BEGIN:DAYLIGHT
TZOFFSETFROM:-0600
TZOFFSETTO:-0500
TZNAME:CDT
DTSTART:20250309T080000
END:DAYLIGHT
BEGIN:STANDARD
TZOFFSETFROM:-0500
TZOFFSETTO:-0600
TZNAME:CST
DTSTART:20251102T070000
END:STANDARD
BEGIN:DAYLIGHT
TZOFFSETFROM:-0600
TZOFFSETTO:-0500
TZNAME:CDT
DTSTART:20260308T080000
END:DAYLIGHT
BEGIN:STANDARD
TZOFFSETFROM:-0500
TZOFFSETTO:-0600
TZNAME:CST
DTSTART:20261101T070000
END:STANDARD
END:VTIMEZONE
BEGIN:VEVENT
DTSTART;TZID=America/Chicago:20251206T183000
DTEND;TZID=America/Chicago:20251206T200000
DTSTAMP:20260424T145239
CREATED:20251201T000858Z
LAST-MODIFIED:20251201T001531Z
UID:115581-1765045800-1765051200@elginalanoclub.com
SUMMARY:1st Saturday Open Speaker Meeting – Jewel O.
DESCRIPTION:Saturday Open Speaker Meetings*\nEvery 1st\, 2nd and 3rd Saturday of the month.\n________ \nSaturday\, December 6th @ 7pm \n     Jewel O. from We are not Dead Yet Group \n________ \nElgin Alano Club \n73 S. Riverside Dr.\, Downtown Elgin\, Illinois \n________ \nPlease come early for the “Meeting before the Meeting” for fellowship. \n 
URL:https://elginalanoclub.com/event/1st-saturday-open-speaker-meeting-jewel-o/
LOCATION:Elgin Alano Club\, 73 Riverside Drive\, Elgin\, IL\, 60120\, United States
CATEGORIES:District 22,EAC Event,Open Speaker
ATTACH;FMTTYPE=image/png:https://elginalanoclub.com/wp-content/uploads/2025/11/SAT-NIGHT-OPEN-WINTER-FORMAT-1.png
ORGANIZER;CN="Elgin Alano Club":MAILTO:elginalanoclub@gmail.com
END:VEVENT
BEGIN:VEVENT
DTSTART;TZID=America/Chicago:20251225T113000
DTEND;TZID=America/Chicago:20251225T163000
DTSTAMP:20260424T145239
CREATED:20251117T004349Z
LAST-MODIFIED:20251117T004702Z
UID:115566-1766662200-1766680200@elginalanoclub.com
SUMMARY:Christmas Day Open House
DESCRIPTION:Christmas Day Open House\nThursday\, December 25th\, 2025\nTime: 11:30 am – 4:30 pm | Meetings – Fellowship – Fun! \nThe Elgin Alano Club will be OPEN for friends and visitors on Christmas Day! We will be conducting a Series of Meetings in Unit C between 12:00  – 4:00 pm\, plus the gift shop\, and members lounge are open\, kids room activities and lots more! \nA Christmas Meal will be served! If you plan to bring a dish to share\, please sign up at the club\, so we do not ‘load up’ on any single item. \nBring a friend\, board game and attend one of our extra meetings for the day!  A perfect ‘escape’ from what many may find to be a stressful and/or tempting day with or without family.  \n\n\n\nMeeting Sessions \n\n12:00 – 1:00 (open)\n1:30 – 2:30 (closed)\n3:00 – 4:00 (open)\n\n\n\n\n\nALL ARE WELCOME!\nElgin Alano Club – 73 S. Riverside Drive\, Elgin\, Illinois 60120\nwww.ElginAlanoClub.com | Contact: Jim H. 224-629-6454
URL:https://elginalanoclub.com/event/christmas-day-open-house-8/
LOCATION:Elgin Alano Club\, 73 Riverside Drive\, Elgin\, IL\, 60120\, United States
CATEGORIES:EAC Event,Open Event,Social
ATTACH;FMTTYPE=image/png:https://elginalanoclub.com/wp-content/uploads/2025/11/Christmas-Open-House-2025.png
ORGANIZER;CN="Elgin Alano Club":MAILTO:elginalanoclub@gmail.com
END:VEVENT
END:VCALENDAR