BEGIN:VCALENDAR
VERSION:2.0
PRODID:-//Elgin Alano Club - ECPv6.15.20//NONSGML v1.0//EN
CALSCALE:GREGORIAN
METHOD:PUBLISH
X-WR-CALNAME:Elgin Alano Club
X-ORIGINAL-URL:https://elginalanoclub.com
X-WR-CALDESC:Events for Elgin Alano Club
REFRESH-INTERVAL;VALUE=DURATION:PT1H
X-Robots-Tag:noindex
X-PUBLISHED-TTL:PT1H
BEGIN:VTIMEZONE
TZID:America/Chicago
BEGIN:DAYLIGHT
TZOFFSETFROM:-0600
TZOFFSETTO:-0500
TZNAME:CDT
DTSTART:20220313T080000
END:DAYLIGHT
BEGIN:STANDARD
TZOFFSETFROM:-0500
TZOFFSETTO:-0600
TZNAME:CST
DTSTART:20221106T070000
END:STANDARD
BEGIN:DAYLIGHT
TZOFFSETFROM:-0600
TZOFFSETTO:-0500
TZNAME:CDT
DTSTART:20230312T080000
END:DAYLIGHT
BEGIN:STANDARD
TZOFFSETFROM:-0500
TZOFFSETTO:-0600
TZNAME:CST
DTSTART:20231105T070000
END:STANDARD
BEGIN:DAYLIGHT
TZOFFSETFROM:-0600
TZOFFSETTO:-0500
TZNAME:CDT
DTSTART:20240310T080000
END:DAYLIGHT
BEGIN:STANDARD
TZOFFSETFROM:-0500
TZOFFSETTO:-0600
TZNAME:CST
DTSTART:20241103T070000
END:STANDARD
END:VTIMEZONE
BEGIN:VEVENT
DTSTART;TZID=America/Chicago:20231225T113000
DTEND;TZID=America/Chicago:20231225T163000
DTSTAMP:20260422T040534
CREATED:20231103T194301Z
LAST-MODIFIED:20231103T194301Z
UID:115011-1703503800-1703521800@elginalanoclub.com
SUMMARY:Christmas Open House
DESCRIPTION:Christmas Day Open House\nMonday\, December 25th\, 2023\nTime: 11:30 am – 4:30 pm | Meetings – Fellowship – Fun! \nThe Elgin Alano Club will be OPEN for friends and visitors on Christmas Day! We will be conducting a Series of Meetings in Unit C between 12:00  – 4:00 pm\, plus the gift shop\, big screen TV and members lounge are open\, kids room activities and lots more! \nA Christmas Meal will be served this year! If you plan to bring a dish to share\, please sign up at the club\, so we do not ‘load up’ on any single item. \nBring a friend\, board game and attend one of our extra meetings for the day!  A perfect ‘escape’ from what many may find to be a stressful and/or tempting day with or without family.  \n  \n\n\n\nMeeting Sessions \n\n12:00 – 1:00 (open)\n1:30 – 2:30 (closed)\n3:00 – 4:00 (open)\n\n\n\n\n\nALL ARE WELCOME!\nElgin Alano Club – 73 S. Riverside Drive\, Elgin\, Illinois 60120\nwww.ElginAlanoClub.com | Contact: Jim H. 224-629-6454 \n 
URL:https://elginalanoclub.com/event/christmas-open-house-3/
LOCATION:Elgin Alano Club\, 73 Riverside Drive\, Elgin\, IL\, 60120\, United States
CATEGORIES:EAC Event,Open Event
ATTACH;FMTTYPE=image/png:https://elginalanoclub.com/wp-content/uploads/2023/11/EAC-Christmas-2023.png
ORGANIZER;CN="Elgin Alano Club":MAILTO:elginalanoclub@gmail.com
END:VEVENT
END:VCALENDAR