BEGIN:VCALENDAR
VERSION:2.0
PRODID:-//Elgin Alano Club - ECPv6.15.20//NONSGML v1.0//EN
CALSCALE:GREGORIAN
METHOD:PUBLISH
X-WR-CALNAME:Elgin Alano Club
X-ORIGINAL-URL:https://elginalanoclub.com
X-WR-CALDESC:Events for Elgin Alano Club
REFRESH-INTERVAL;VALUE=DURATION:PT1H
X-Robots-Tag:noindex
X-PUBLISHED-TTL:PT1H
BEGIN:VTIMEZONE
TZID:America/Chicago
BEGIN:DAYLIGHT
TZOFFSETFROM:-0600
TZOFFSETTO:-0500
TZNAME:CDT
DTSTART:20180311T080000
END:DAYLIGHT
BEGIN:STANDARD
TZOFFSETFROM:-0500
TZOFFSETTO:-0600
TZNAME:CST
DTSTART:20181104T070000
END:STANDARD
BEGIN:DAYLIGHT
TZOFFSETFROM:-0600
TZOFFSETTO:-0500
TZNAME:CDT
DTSTART:20190310T080000
END:DAYLIGHT
BEGIN:STANDARD
TZOFFSETFROM:-0500
TZOFFSETTO:-0600
TZNAME:CST
DTSTART:20191103T070000
END:STANDARD
BEGIN:DAYLIGHT
TZOFFSETFROM:-0600
TZOFFSETTO:-0500
TZNAME:CDT
DTSTART:20200308T080000
END:DAYLIGHT
BEGIN:STANDARD
TZOFFSETFROM:-0500
TZOFFSETTO:-0600
TZNAME:CST
DTSTART:20201101T070000
END:STANDARD
END:VTIMEZONE
BEGIN:VEVENT
DTSTART;TZID=America/Chicago:20191215T160000
DTEND;TZID=America/Chicago:20191215T220000
DTSTAMP:20260422T230002
CREATED:20191112T061213Z
LAST-MODIFIED:20191125T181458Z
UID:113784-1576425600-1576447200@elginalanoclub.com
SUMMARY:District 22 Christmas Party - 12.15.2019
DESCRIPTION:NIA District 22 Annual Christmas Party\nProudly presents… a festive fellowship dinner and holiday celebration! All are welcome! \nDate: Saturday\, December 15\, 2018\nTime: 4:00 – 10:00 pm | Dinner: Served at 5:30 pm | Visitor from the North Pole at 8:00 pm \nFirst United Methodist Church\n216 E. Highland Avenue\, Downtown Elgin\, IL 60120 \nFamilies Welcome! Raffles\, Kids Games and Live Entertainment | Please bring a Dessert to Share! \nContact: Keith P. (224) 213-2141\nFor more information visit: http://dist22.aa-nia.org/ \n*PARKING* Plenty of Free Parking available at the Spring Street Parking Deck – Between Chicago St. and Highland Ave!
URL:https://elginalanoclub.com/event/district-22-christmas-party-12-15-2019/
LOCATION:First United Methodist Church\, 216 E. Highland Ave\, Elgin\, IL\, 60120\, United States
CATEGORIES:District 22,Open Event,Social
ATTACH;FMTTYPE=image/jpeg:https://elginalanoclub.com/wp-content/uploads/2019/11/2019-D-22-Christmas-Party-Flyer.jpg
END:VEVENT
BEGIN:VEVENT
DTSTART;TZID=America/Chicago:20191219T190000
DTEND;TZID=America/Chicago:20191219T210000
DTSTAMP:20260422T230002
CREATED:20191112T061719Z
LAST-MODIFIED:20191112T061719Z
UID:113788-1576782000-1576789200@elginalanoclub.com
SUMMARY:The Importance of Continuing Workshop
DESCRIPTION:WHEN: 12/19/2019 @ 7:00 pm\n\n\nWHERE: Zion Lutheran Church\, 330 Griswold St\, Elgin\, IL 60123\n\n\nCONTACT:  Dwayne G.  630-826-9518\n\n\n\nThis is a panel discussion \nDoors open at 7 pm
URL:https://elginalanoclub.com/event/the-importance-of-continuing-workshop/
LOCATION:Zion Lutheran Church\, 330 griswald st\, Elgin\, IL\, 60120\, United States
CATEGORIES:District 22,Workshop
END:VEVENT
END:VCALENDAR