BEGIN:VCALENDAR
VERSION:2.0
PRODID:-//Elgin Alano Club - ECPv6.15.20//NONSGML v1.0//EN
CALSCALE:GREGORIAN
METHOD:PUBLISH
X-ORIGINAL-URL:https://elginalanoclub.com
X-WR-CALDESC:Events for Elgin Alano Club
REFRESH-INTERVAL;VALUE=DURATION:PT1H
X-Robots-Tag:noindex
X-PUBLISHED-TTL:PT1H
BEGIN:VTIMEZONE
TZID:America/Chicago
BEGIN:DAYLIGHT
TZOFFSETFROM:-0600
TZOFFSETTO:-0500
TZNAME:CDT
DTSTART:20220313T080000
END:DAYLIGHT
BEGIN:STANDARD
TZOFFSETFROM:-0500
TZOFFSETTO:-0600
TZNAME:CST
DTSTART:20221106T070000
END:STANDARD
BEGIN:DAYLIGHT
TZOFFSETFROM:-0600
TZOFFSETTO:-0500
TZNAME:CDT
DTSTART:20230312T080000
END:DAYLIGHT
BEGIN:STANDARD
TZOFFSETFROM:-0500
TZOFFSETTO:-0600
TZNAME:CST
DTSTART:20231105T070000
END:STANDARD
BEGIN:DAYLIGHT
TZOFFSETFROM:-0600
TZOFFSETTO:-0500
TZNAME:CDT
DTSTART:20240310T080000
END:DAYLIGHT
BEGIN:STANDARD
TZOFFSETFROM:-0500
TZOFFSETTO:-0600
TZNAME:CST
DTSTART:20241103T070000
END:STANDARD
END:VTIMEZONE
BEGIN:VEVENT
DTSTART;TZID=America/Chicago:20230310T160000
DTEND;TZID=America/Chicago:20230312T120000
DTSTAMP:20260420T164858
CREATED:20221127T204035Z
LAST-MODIFIED:20221127T204729Z
UID:114811-1678464000-1678622400@elginalanoclub.com
SUMMARY:2023 NIA 20 Spring Conference
DESCRIPTION:2023 NIA 20 Spring Conference and Assembly\nIN THE SPIRIT OF LOVE AND SERVICE\nMarch 10-12\,  2023\nCO-HOSTED BY DISTRICT 22 AND 23\nHYATT REGENCY SCHAUMBURG\n1800 EAST GOLF ROAD\, SCHAUMBURG\, IL 60173  (847)605-1234 \nA.A. SPEAKERS\nSLOAN B. FROM WAUKESHA\, WI\nJEFF V. FROM FARGO\, ND \nAL-ANON SPEAKER\nTBA \nPANELS\nALCATHON\nLITERATURE\nARCHIVES\nBANQUET\nDANCE\nFELLOWSHIP \nON SITE REGISTRATION\nBEGINS AT 3PM ON MARCH 10TH\, 2023 \n\nONLINE REGISTRATION–End on February 10\,2023 – online payment only via Credit/Debit Card\nRESERVE A ROOM $119.00/night Book online or call (847)605-1234 and don’t forget to mention: NIA Spring Conference\nPRINTABLE CONFERENCE FLYER–(English and Spanish Version)
URL:https://elginalanoclub.com/event/2023-nia-20-spring-conference/
LOCATION:Hyatt Regency Schaumburg\, 1800 Golf Rd\, Schuamburg\, IL\, 60173\, United States
CATEGORIES:Area Event,Conference,District 22
ATTACH;FMTTYPE=image/png:https://elginalanoclub.com/wp-content/uploads/2022/11/2023-NIA-20-Spring-Conference.png
END:VEVENT
END:VCALENDAR