BEGIN:VCALENDAR
VERSION:2.0
PRODID:-//Elgin Alano Club - ECPv6.15.20//NONSGML v1.0//EN
CALSCALE:GREGORIAN
METHOD:PUBLISH
X-WR-CALNAME:Elgin Alano Club
X-ORIGINAL-URL:https://elginalanoclub.com
X-WR-CALDESC:Events for Elgin Alano Club
REFRESH-INTERVAL;VALUE=DURATION:PT1H
X-Robots-Tag:noindex
X-PUBLISHED-TTL:PT1H
BEGIN:VTIMEZONE
TZID:America/Chicago
BEGIN:DAYLIGHT
TZOFFSETFROM:-0600
TZOFFSETTO:-0500
TZNAME:CDT
DTSTART:20220313T080000
END:DAYLIGHT
BEGIN:STANDARD
TZOFFSETFROM:-0500
TZOFFSETTO:-0600
TZNAME:CST
DTSTART:20221106T070000
END:STANDARD
BEGIN:DAYLIGHT
TZOFFSETFROM:-0600
TZOFFSETTO:-0500
TZNAME:CDT
DTSTART:20230312T080000
END:DAYLIGHT
BEGIN:STANDARD
TZOFFSETFROM:-0500
TZOFFSETTO:-0600
TZNAME:CST
DTSTART:20231105T070000
END:STANDARD
BEGIN:DAYLIGHT
TZOFFSETFROM:-0600
TZOFFSETTO:-0500
TZNAME:CDT
DTSTART:20240310T080000
END:DAYLIGHT
BEGIN:STANDARD
TZOFFSETFROM:-0500
TZOFFSETTO:-0600
TZNAME:CST
DTSTART:20241103T070000
END:STANDARD
END:VTIMEZONE
BEGIN:VEVENT
DTSTART;TZID=America/Chicago:20230902T173000
DTEND;TZID=America/Chicago:20230902T200000
DTSTAMP:20260420T084753
CREATED:20230711T235023Z
LAST-MODIFIED:20230816T213942Z
UID:114941-1693675800-1693684800@elginalanoclub.com
SUMMARY:1st Saturday Open Speaker Meeting - Rob S.
DESCRIPTION:Saturday Open Speaker Meetings*\nEvery 1st and 3rd Saturday of the month.\n________ \nSaturday\, September 2nd @ 7pm \nSpeaker – Rob S. from Elgin\, IL \n________ \nElgin Alano Club \n73 S. Riverside Dr.\, Downtown Elgin\, Illinois \n  \n*During the Spring and Summer months\, we will have simple grilled dinners available from 5:30 – 7:00 pm.  Please come early for the ‘Meeting before the Meeting’ for food\, fellowship and fun! 
URL:https://elginalanoclub.com/event/1st-saturday-open-speaker-meeting-rob-l/
LOCATION:Elgin Alano Club\, 73 Riverside Drive\, Elgin\, IL\, 60120\, United States
CATEGORIES:District 22,EAC Event,Open Event,Open Speaker
ATTACH;FMTTYPE=image/png:https://elginalanoclub.com/wp-content/uploads/2023/07/Saturday-Night-Open-Spring-Summer.png
ORGANIZER;CN="Elgin Alano Club":MAILTO:elginalanoclub@gmail.com
END:VEVENT
BEGIN:VEVENT
DTSTART;TZID=America/Chicago:20230916T173000
DTEND;TZID=America/Chicago:20230916T200000
DTSTAMP:20260420T084753
CREATED:20230712T000325Z
LAST-MODIFIED:20230816T213956Z
UID:114945-1694885400-1694894400@elginalanoclub.com
SUMMARY:3rd Saturday Open Speaker Meeting - Dani P.
DESCRIPTION:Saturday Open Speaker Meetings*\nEvery 1st and 3rd Saturday of the month.\n________ \nSaturday\, September 16th @ 7pm \nDani P. from Schaumberg will share their experience\, strength and hope.  \n________ \nElgin Alano Club \n73 S. Riverside Dr.\, Downtown Elgin\, Illinois \n*During the winter months\, we will have smoked pulled pork dinners available from 5:30 – 7:00 pm.  Please come early for the ‘Meeting before the Meeting’ for food\, fellowship and fun! 
URL:https://elginalanoclub.com/event/3rd-saturday-open-speaker-meeting-dani-p/
LOCATION:Elgin Alano Club\, 73 Riverside Drive\, Elgin\, IL\, 60120\, United States
CATEGORIES:District 22,EAC Event,Open Event,Open Speaker
ATTACH;FMTTYPE=image/png:https://elginalanoclub.com/wp-content/uploads/2023/07/Saturday-Night-Open-Spring-Summer.png
END:VEVENT
END:VCALENDAR