BEGIN:VCALENDAR
VERSION:2.0
PRODID:-//Elgin Alano Club - ECPv6.15.20//NONSGML v1.0//EN
CALSCALE:GREGORIAN
METHOD:PUBLISH
X-WR-CALNAME:Elgin Alano Club
X-ORIGINAL-URL:https://elginalanoclub.com
X-WR-CALDESC:Events for Elgin Alano Club
REFRESH-INTERVAL;VALUE=DURATION:PT1H
X-Robots-Tag:noindex
X-PUBLISHED-TTL:PT1H
BEGIN:VTIMEZONE
TZID:America/Chicago
BEGIN:DAYLIGHT
TZOFFSETFROM:-0600
TZOFFSETTO:-0500
TZNAME:CDT
DTSTART:20220313T080000
END:DAYLIGHT
BEGIN:STANDARD
TZOFFSETFROM:-0500
TZOFFSETTO:-0600
TZNAME:CST
DTSTART:20221106T070000
END:STANDARD
BEGIN:DAYLIGHT
TZOFFSETFROM:-0600
TZOFFSETTO:-0500
TZNAME:CDT
DTSTART:20230312T080000
END:DAYLIGHT
BEGIN:STANDARD
TZOFFSETFROM:-0500
TZOFFSETTO:-0600
TZNAME:CST
DTSTART:20231105T070000
END:STANDARD
BEGIN:DAYLIGHT
TZOFFSETFROM:-0600
TZOFFSETTO:-0500
TZNAME:CDT
DTSTART:20240310T080000
END:DAYLIGHT
BEGIN:STANDARD
TZOFFSETFROM:-0500
TZOFFSETTO:-0600
TZNAME:CST
DTSTART:20241103T070000
END:STANDARD
END:VTIMEZONE
BEGIN:VEVENT
DTSTART;TZID=America/Chicago:20231104T053000
DTEND;TZID=America/Chicago:20231104T203000
DTSTAMP:20260420T055927
CREATED:20231103T194639Z
LAST-MODIFIED:20231103T195206Z
UID:115016-1699075800-1699129800@elginalanoclub.com
SUMMARY:1st Saturday Open Speaker Meeting
DESCRIPTION:Saturday Open Speaker Meetings*\nEvery 1st and 3rd Saturday of the month.\n________ \nSaturday\, November 4th @ 7pm \nSpeaker – TBA \n________ \nElgin Alano Club \n73 S. Riverside Dr.\, Downtown Elgin\, Illinois \n*During the winter months\, we will have smoked pulled pork dinners available from 5:30 – 7:00 pm.  Please come early for the ‘Meeting before the Meeting’ for food\, fellowship and fun! 
URL:https://elginalanoclub.com/event/1st-saturday-open-speaker-meeting/
LOCATION:Elgin Alano Club\, 73 Riverside Drive\, Elgin\, IL\, 60120\, United States
CATEGORIES:District 22,EAC Event,Open Speaker
ATTACH;FMTTYPE=image/jpeg:https://elginalanoclub.com/wp-content/uploads/2022/12/Saturday-Open-Dec-Jan-23-e1703371435500.jpg
ORGANIZER;CN="Elgin Alano Club":MAILTO:elginalanoclub@gmail.com
END:VEVENT
BEGIN:VEVENT
DTSTART;TZID=America/Chicago:20231118T173000
DTEND;TZID=America/Chicago:20231118T203000
DTSTAMP:20260420T055927
CREATED:20231103T194900Z
LAST-MODIFIED:20231117T232313Z
UID:115018-1700328600-1700339400@elginalanoclub.com
SUMMARY:3rd Saturday Open Speaker Meeting - Eric L.
DESCRIPTION:Saturday Open Speaker Meetings*\nEvery 1st and 3rd Saturday of the month.\n________ \nSaturday\, November 18th @ 7pm \n     Eric L. from Elgin \n________ \nElgin Alano Club \n73 S. Riverside Dr.\, Downtown Elgin\, Illinois \n*During the winter months\, we will have smoked pulled pork dinners available from 5:30 – 7:00 pm.  Please come early for the ‘Meeting before the Meeting’ for food\, fellowship and fun! 
URL:https://elginalanoclub.com/event/3rd-saturday-open-speaker-meeting-eric-l/
LOCATION:Elgin Alano Club\, 73 Riverside Drive\, Elgin\, IL\, 60120\, United States
CATEGORIES:District 22,Open Speaker
ATTACH;FMTTYPE=image/jpeg:https://elginalanoclub.com/wp-content/uploads/2022/12/Saturday-Open-Dec-Jan-23-e1703371435500.jpg
ORGANIZER;CN="Elgin Alano Club":MAILTO:elginalanoclub@gmail.com
END:VEVENT
END:VCALENDAR