BEGIN:VCALENDAR
VERSION:2.0
PRODID:-//Elgin Alano Club - ECPv6.15.20//NONSGML v1.0//EN
CALSCALE:GREGORIAN
METHOD:PUBLISH
X-ORIGINAL-URL:https://elginalanoclub.com
X-WR-CALDESC:Events for Elgin Alano Club
REFRESH-INTERVAL;VALUE=DURATION:PT1H
X-Robots-Tag:noindex
X-PUBLISHED-TTL:PT1H
BEGIN:VTIMEZONE
TZID:America/Chicago
BEGIN:DAYLIGHT
TZOFFSETFROM:-0600
TZOFFSETTO:-0500
TZNAME:CDT
DTSTART:20230312T080000
END:DAYLIGHT
BEGIN:STANDARD
TZOFFSETFROM:-0500
TZOFFSETTO:-0600
TZNAME:CST
DTSTART:20231105T070000
END:STANDARD
BEGIN:DAYLIGHT
TZOFFSETFROM:-0600
TZOFFSETTO:-0500
TZNAME:CDT
DTSTART:20240310T080000
END:DAYLIGHT
BEGIN:STANDARD
TZOFFSETFROM:-0500
TZOFFSETTO:-0600
TZNAME:CST
DTSTART:20241103T070000
END:STANDARD
BEGIN:DAYLIGHT
TZOFFSETFROM:-0600
TZOFFSETTO:-0500
TZNAME:CDT
DTSTART:20250309T080000
END:DAYLIGHT
BEGIN:STANDARD
TZOFFSETFROM:-0500
TZOFFSETTO:-0600
TZNAME:CST
DTSTART:20251102T070000
END:STANDARD
END:VTIMEZONE
BEGIN:VEVENT
DTSTART;TZID=America/Chicago:20240302T190000
DTEND;TZID=America/Chicago:20240302T200000
DTSTAMP:20260420T005833
CREATED:20240322T214006Z
LAST-MODIFIED:20240322T214006Z
UID:115093-1709406000-1709409600@elginalanoclub.com
SUMMARY:1st Saturday Open Speaker Meeting - Joe G.
DESCRIPTION:Saturday Open Speaker Meetings*\nEvery 1st and 3rd Saturday of the month.\n________ \nSaturday\, March 2nd @ 7pm \n     Joe G. from Hampshire (Hampshire Oaks Group) \n________ \nElgin Alano Club \n73 S. Riverside Dr.\, Downtown Elgin\, Illinois \n  \n*During the winter months\, we will have simple prepared dinners available from 5:30 – 7:00 pm for $5.00. These funds go to District 22.  Please come early for the ‘Meeting before the Meeting’ for food\, fellowship! 
URL:https://elginalanoclub.com/event/1st-saturday-open-speaker-meeting-joe-g/
LOCATION:Elgin Alano Club\, 73 Riverside Drive\, Elgin\, IL\, 60120\, United States
CATEGORIES:District 22,EAC Event,Open Speaker
ATTACH;FMTTYPE=image/png:https://elginalanoclub.com/wp-content/uploads/2023/07/Saturday-Night-Open-Spring-Summer.png
ORGANIZER;CN="Elgin Alano Club":MAILTO:elginalanoclub@gmail.com
END:VEVENT
BEGIN:VEVENT
DTSTART;TZID=America/Chicago:20240316T190000
DTEND;TZID=America/Chicago:20240316T203000
DTSTAMP:20260420T005833
CREATED:20240322T214211Z
LAST-MODIFIED:20240322T214211Z
UID:115095-1710615600-1710621000@elginalanoclub.com
SUMMARY:3rd Saturday Open Speaker Meeting - Nick C.
DESCRIPTION:Saturday Open Speaker Meetings*\nEvery 1st and 3rd Saturday of the month.\n________ \nSaturday\, March 16th @ 7pm \n     Nick C. from Elgin (Fellowship of the Spirit) \n________ \nElgin Alano Club \n73 S. Riverside Dr.\, Downtown Elgin\, Illinois \n*During the winter months\, we will have simple prepared dinners available from 5:30 – 7:00 pm for $5.00. These funds go to District 22.  Please come early for the ‘Meeting before the Meeting’ for food\, fellowship! 
URL:https://elginalanoclub.com/event/3rd-saturday-open-speaker-meeting-nick-c/
LOCATION:Elgin Alano Club\, 73 Riverside Drive\, Elgin\, IL\, 60120\, United States
CATEGORIES:District 22,EAC Event,Open Speaker
ATTACH;FMTTYPE=image/png:https://elginalanoclub.com/wp-content/uploads/2023/07/Saturday-Night-Open-Spring-Summer.png
ORGANIZER;CN="Elgin Alano Club":MAILTO:elginalanoclub@gmail.com
END:VEVENT
END:VCALENDAR