BEGIN:VCALENDAR
VERSION:2.0
PRODID:-//Elgin Alano Club - ECPv6.15.20//NONSGML v1.0//EN
CALSCALE:GREGORIAN
METHOD:PUBLISH
X-ORIGINAL-URL:https://elginalanoclub.com
X-WR-CALDESC:Events for Elgin Alano Club
REFRESH-INTERVAL;VALUE=DURATION:PT1H
X-Robots-Tag:noindex
X-PUBLISHED-TTL:PT1H
BEGIN:VTIMEZONE
TZID:America/Chicago
BEGIN:DAYLIGHT
TZOFFSETFROM:-0600
TZOFFSETTO:-0500
TZNAME:CDT
DTSTART:20230312T080000
END:DAYLIGHT
BEGIN:STANDARD
TZOFFSETFROM:-0500
TZOFFSETTO:-0600
TZNAME:CST
DTSTART:20231105T070000
END:STANDARD
BEGIN:DAYLIGHT
TZOFFSETFROM:-0600
TZOFFSETTO:-0500
TZNAME:CDT
DTSTART:20240310T080000
END:DAYLIGHT
BEGIN:STANDARD
TZOFFSETFROM:-0500
TZOFFSETTO:-0600
TZNAME:CST
DTSTART:20241103T070000
END:STANDARD
BEGIN:DAYLIGHT
TZOFFSETFROM:-0600
TZOFFSETTO:-0500
TZNAME:CDT
DTSTART:20250309T080000
END:DAYLIGHT
BEGIN:STANDARD
TZOFFSETFROM:-0500
TZOFFSETTO:-0600
TZNAME:CST
DTSTART:20251102T070000
END:STANDARD
END:VTIMEZONE
BEGIN:VEVENT
DTSTART;TZID=America/Chicago:20240907T173000
DTEND;TZID=America/Chicago:20240907T200000
DTSTAMP:20260419T165351
CREATED:20240804T145950Z
LAST-MODIFIED:20240901T171624Z
UID:115179-1725730200-1725739200@elginalanoclub.com
SUMMARY:1st Saturday Open Speaker Meeting – Mike B.
DESCRIPTION:Saturday Open Speaker Meetings*\nEvery 1st\, 2nd and 3rd Saturday of the month.\n________ \nSaturday\, September 7th @ 7pm \n     Mike B. from South Elgin\, IL \n________ \nElgin Alano Club \n73 S. Riverside Dr.\, Downtown Elgin\, Illinois \n________ \nPlease come early for the “Meeting before the Meeting” for food & fellowship.\nDuring the summer months we will have simple grilled dinners available for $5\, from 5:30 – 7:00. \nNote: If there is an event scheduled at Festival Park\, Riverside Drive may be shut down\, requiring parking on Grove Street.
URL:https://elginalanoclub.com/event/1st-saturday-open-speaker-meeting-mike-b/
LOCATION:Elgin Alano Club\, 73 Riverside Drive\, Elgin\, IL\, 60120\, United States
CATEGORIES:District 22,EAC Event,Open Speaker
ATTACH;FMTTYPE=image/png:https://elginalanoclub.com/wp-content/uploads/2024/09/Saturday-Night-Open-Autumn-2024.png
END:VEVENT
BEGIN:VEVENT
DTSTART;TZID=America/Chicago:20240914T173000
DTEND;TZID=America/Chicago:20240914T200000
DTSTAMP:20260419T165351
CREATED:20240901T164013Z
LAST-MODIFIED:20240901T171552Z
UID:115263-1726335000-1726344000@elginalanoclub.com
SUMMARY:2nd Saturday Open Speaker Meeting – Purple Jane
DESCRIPTION:Saturday Open Speaker Meetings*\nEvery 1st\, 2nd and 3rd Saturday of the month.\n________ \nSaturday\, September 14th @ 7pm \n  Purple Jane from Elgin\, IL \n________ \nElgin Alano Club \n73 S. Riverside Dr.\, Downtown Elgin\, Illinois \n________ \nPlease come early for the “Meeting before the Meeting” for food & fellowship.\nDuring the summer months we will have simple grilled dinners available for $5\, from 5:30 – 7:00. \nNote: If there is an event scheduled at Festival Park\, Riverside Drive may be shut down\, requiring parking on Grove Street.
URL:https://elginalanoclub.com/event/2nd-saturday-open-speaker-meeting-purple-jane/
LOCATION:Elgin Alano Club\, 73 Riverside Drive\, Elgin\, IL\, 60120\, United States
CATEGORIES:District 22,EAC Event,Open Speaker
ATTACH;FMTTYPE=image/png:https://elginalanoclub.com/wp-content/uploads/2024/09/Saturday-Night-Open-Autumn-2024.png
ORGANIZER;CN="Elgin Alano Club":MAILTO:elginalanoclub@gmail.com
END:VEVENT
BEGIN:VEVENT
DTSTART;TZID=America/Chicago:20240921T173000
DTEND;TZID=America/Chicago:20240921T203000
DTSTAMP:20260419T165351
CREATED:20240804T150121Z
LAST-MODIFIED:20240901T171533Z
UID:115181-1726939800-1726950600@elginalanoclub.com
SUMMARY:3rd Saturday Open Speaker Meeting – Larry S.
DESCRIPTION:Saturday Open Speaker Meetings*\nEvery 1st\, 2nd and 3rd Saturday of the month.\n________ \nSaturday\, September 21st @ 7pm \n  Larry S. from “R.V. Land” \n________ \nElgin Alano Club \n73 S. Riverside Dr.\, Downtown Elgin\, Illinois \n________ \nPlease come early for the “Meeting before the Meeting” for food & fellowship.\nDuring the summer months we will have simple grilled dinners available for $5\, from 5:30 – 7:00. \nNote: If there is an event scheduled at Festival Park\, Riverside Drive may be shut down\, requiring parking on Grove Street.
URL:https://elginalanoclub.com/event/3rd-saturday-open-speaker-meeting-larry-s/
LOCATION:Elgin Alano Club\, 73 Riverside Drive\, Elgin\, IL\, 60120\, United States
CATEGORIES:District 22,EAC Event,Open Speaker
ATTACH;FMTTYPE=image/png:https://elginalanoclub.com/wp-content/uploads/2024/09/Saturday-Night-Open-Autumn-2024.png
END:VEVENT
END:VCALENDAR