BEGIN:VCALENDAR
VERSION:2.0
PRODID:-//Elgin Alano Club - ECPv6.15.20//NONSGML v1.0//EN
CALSCALE:GREGORIAN
METHOD:PUBLISH
X-WR-CALNAME:Elgin Alano Club
X-ORIGINAL-URL:https://elginalanoclub.com
X-WR-CALDESC:Events for Elgin Alano Club
REFRESH-INTERVAL;VALUE=DURATION:PT1H
X-Robots-Tag:noindex
X-PUBLISHED-TTL:PT1H
BEGIN:VTIMEZONE
TZID:America/Chicago
BEGIN:DAYLIGHT
TZOFFSETFROM:-0600
TZOFFSETTO:-0500
TZNAME:CDT
DTSTART:20230312T080000
END:DAYLIGHT
BEGIN:STANDARD
TZOFFSETFROM:-0500
TZOFFSETTO:-0600
TZNAME:CST
DTSTART:20231105T070000
END:STANDARD
BEGIN:DAYLIGHT
TZOFFSETFROM:-0600
TZOFFSETTO:-0500
TZNAME:CDT
DTSTART:20240310T080000
END:DAYLIGHT
BEGIN:STANDARD
TZOFFSETFROM:-0500
TZOFFSETTO:-0600
TZNAME:CST
DTSTART:20241103T070000
END:STANDARD
BEGIN:DAYLIGHT
TZOFFSETFROM:-0600
TZOFFSETTO:-0500
TZNAME:CDT
DTSTART:20250309T080000
END:DAYLIGHT
BEGIN:STANDARD
TZOFFSETFROM:-0500
TZOFFSETTO:-0600
TZNAME:CST
DTSTART:20251102T070000
END:STANDARD
END:VTIMEZONE
BEGIN:VEVENT
DTSTART;TZID=America/Chicago:20241005T173000
DTEND;TZID=America/Chicago:20241005T200000
DTSTAMP:20260419T154103
CREATED:20240804T150243Z
LAST-MODIFIED:20241013T165754Z
UID:115183-1728149400-1728158400@elginalanoclub.com
SUMMARY:1st Saturday Open Speaker Meeting – Jason L.
DESCRIPTION:Saturday Open Speaker Meetings*\nEvery 1st and 3rd Saturday of the month.\n________ \nSaturday\, October 5th @ 7pm \n     Jason L. from Wauconda – How and Why Group \n________ \nElgin Alano Club \n73 S. Riverside Dr.\, Downtown Elgin\, Illinois \n________ \nPlease come early for the “Meeting before the Meeting” for food & fellowship.\nDuring the autumn months we will have simple grilled dinners available for $5\, from 5:30 – 7:00. \nNote: If there is an event scheduled at Festival Park\, Riverside Drive may be shut down\, requiring parking on Grove Street.
URL:https://elginalanoclub.com/event/1st-saturday-open-speaker-meeting-jason-l/
LOCATION:Elgin Alano Club\, 73 Riverside Drive\, Elgin\, IL\, 60120\, United States
CATEGORIES:District 22,EAC Event,Open Speaker
ATTACH;FMTTYPE=image/png:https://elginalanoclub.com/wp-content/uploads/2024/09/Saturday-Night-Open-Autumn-2024.png
END:VEVENT
BEGIN:VEVENT
DTSTART;TZID=America/Chicago:20241012T173000
DTEND;TZID=America/Chicago:20241012T200000
DTSTAMP:20260419T154103
CREATED:20240901T162729Z
LAST-MODIFIED:20241013T165717Z
UID:115259-1728754200-1728763200@elginalanoclub.com
SUMMARY:2nd Saturday Open Speaker Meeting – Jesse S.
DESCRIPTION:Saturday Open Speaker Meetings*\nEvery 1st\, 2nd and 3rd Saturday of the month.\n________ \nSaturday\, October 12th @ 7pm \n  Jesse S. from Wauconda – How and Why Group \n________ \nElgin Alano Club \n73 S. Riverside Dr.\, Downtown Elgin\, Illinois \n________ \nPlease come early for the “Meeting before the Meeting” for food & fellowship.\nDuring the autumn months we will have simple grilled dinners available for $5\, from 5:30 – 7:00. \nNote: If there is an event scheduled at Festival Park\, Riverside Drive may be shut down\, requiring parking on Grove Street.
URL:https://elginalanoclub.com/event/2nd-saturday-open-speaker-meeting-jesse-s/
LOCATION:Elgin Alano Club\, 73 Riverside Drive\, Elgin\, IL\, 60120\, United States
CATEGORIES:District 22,EAC Event,Open Speaker
ATTACH;FMTTYPE=image/png:https://elginalanoclub.com/wp-content/uploads/2024/09/Saturday-Night-Open-Autumn-2024.png
END:VEVENT
BEGIN:VEVENT
DTSTART;VALUE=DATE:20241019
DTEND;VALUE=DATE:20241020
DTSTAMP:20260419T154103
CREATED:20240804T150433Z
LAST-MODIFIED:20241013T165647Z
UID:115185-1729296000-1729382399@elginalanoclub.com
SUMMARY:3rd Saturday Open Speaker Meeting – Cancelled for N.O.C.S
DESCRIPTION:Saturday Open Speaker Meetings*\nEvery 1st\, 2nd and 3rd Saturday of the month.\n________ \nSaturday\, October 19th @ 7pm \n Cancelled due to Nightmare on Chicago Street Event\n________ \nElgin Alano Club \n73 S. Riverside Dr.\, Downtown Elgin\, Illinois \n________ \nPlease come early for the “Meeting before the Meeting” for food & fellowship.\nDuring the autumn months we will have simple grilled dinners available for $5\, from 5:30 – 7:00. \nNote: If there is an event scheduled at Festival Park\, Riverside Drive may be shut down\, requiring parking on Grove Street.
URL:https://elginalanoclub.com/event/3rd-saturday-open-speaker-meeting-cancelled-for-n-o-c-s/
LOCATION:Elgin Alano Club\, 73 Riverside Drive\, Elgin\, IL\, 60120\, United States
CATEGORIES:District 22,EAC Event,Open Speaker
ATTACH;FMTTYPE=image/png:https://elginalanoclub.com/wp-content/uploads/2024/10/Saturday-Night-Open-Cancelled-2024.png
END:VEVENT
END:VCALENDAR