BEGIN:VCALENDAR
VERSION:2.0
PRODID:-//Elgin Alano Club - ECPv6.15.20//NONSGML v1.0//EN
CALSCALE:GREGORIAN
METHOD:PUBLISH
X-ORIGINAL-URL:https://elginalanoclub.com
X-WR-CALDESC:Events for Elgin Alano Club
REFRESH-INTERVAL;VALUE=DURATION:PT1H
X-Robots-Tag:noindex
X-PUBLISHED-TTL:PT1H
BEGIN:VTIMEZONE
TZID:America/Chicago
BEGIN:DAYLIGHT
TZOFFSETFROM:-0600
TZOFFSETTO:-0500
TZNAME:CDT
DTSTART:20230312T080000
END:DAYLIGHT
BEGIN:STANDARD
TZOFFSETFROM:-0500
TZOFFSETTO:-0600
TZNAME:CST
DTSTART:20231105T070000
END:STANDARD
BEGIN:DAYLIGHT
TZOFFSETFROM:-0600
TZOFFSETTO:-0500
TZNAME:CDT
DTSTART:20240310T080000
END:DAYLIGHT
BEGIN:STANDARD
TZOFFSETFROM:-0500
TZOFFSETTO:-0600
TZNAME:CST
DTSTART:20241103T070000
END:STANDARD
BEGIN:DAYLIGHT
TZOFFSETFROM:-0600
TZOFFSETTO:-0500
TZNAME:CDT
DTSTART:20250309T080000
END:DAYLIGHT
BEGIN:STANDARD
TZOFFSETFROM:-0500
TZOFFSETTO:-0600
TZNAME:CST
DTSTART:20251102T070000
END:STANDARD
END:VTIMEZONE
BEGIN:VEVENT
DTSTART;TZID=America/Chicago:20241102T173000
DTEND;TZID=America/Chicago:20241102T200000
DTSTAMP:20260419T141644
CREATED:20240804T150659Z
LAST-MODIFIED:20241013T165545Z
UID:115189-1730568600-1730577600@elginalanoclub.com
SUMMARY:1st Saturday Open Speaker Meeting – Sandy B.
DESCRIPTION:Saturday Open Speaker Meetings*\nEvery 1st\, 2nd and 3rd Saturday of the month.\n________ \nSaturday\, November 2nd @ 7pm \n Sandy B. from Roselle \n________ \nElgin Alano Club \n73 S. Riverside Dr.\, Downtown Elgin\, Illinois \n________ \nPlease come early for the “Meeting before the Meeting” for food & fellowship.\nDuring the winter months we will have simple grilled dinners available for $5\, from 5:30 – 7:00. \nNote: If there is an event scheduled at Festival Park\, Riverside Drive may be shut down\, requiring parking on Grove Street.
URL:https://elginalanoclub.com/event/1st-saturday-open-speaker-meeting-tba-3/
LOCATION:Elgin Alano Club\, 73 Riverside Drive\, Elgin\, IL\, 60120\, United States
CATEGORIES:District 22,EAC Event,Open Speaker
END:VEVENT
BEGIN:VEVENT
DTSTART;TZID=America/Chicago:20241109T173000
DTEND;TZID=America/Chicago:20241109T200000
DTSTAMP:20260419T141644
CREATED:20240901T170926Z
LAST-MODIFIED:20241013T165457Z
UID:115267-1731173400-1731182400@elginalanoclub.com
SUMMARY:2nd Saturday Open Speaker Meeting – TBA
DESCRIPTION:Saturday Open Speaker Meetings*\nEvery 1st\, 2nd and 3rd Saturday of the month.\n________ \nSaturday\, November 9th @ 7pm \n  TBA – Speakers provided by Marilyn R. Roselle \n________ \nElgin Alano Club \n73 S. Riverside Dr.\, Downtown Elgin\, Illinois \n________ \nPlease come early for the “Meeting before the Meeting” for food & fellowship.\nDuring the winter months we will have simple grilled dinners available for $5\, from 5:30 – 7:00. \nNote: If there is an event scheduled at Festival Park\, Riverside Drive may be shut down\, requiring parking on Grove Street.
URL:https://elginalanoclub.com/event/2nd-saturday-open-speaker-meeting-tba/
LOCATION:Elgin Alano Club\, 73 Riverside Drive\, Elgin\, IL\, 60120\, United States
CATEGORIES:District 22,EAC Event,Open Speaker
END:VEVENT
BEGIN:VEVENT
DTSTART;TZID=America/Chicago:20241116T173000
DTEND;TZID=America/Chicago:20241116T200000
DTSTAMP:20260419T141644
CREATED:20240804T150811Z
LAST-MODIFIED:20241013T165135Z
UID:115191-1731778200-1731787200@elginalanoclub.com
SUMMARY:3rd Saturday Open Speaker Meeting – TBA
DESCRIPTION:Saturday Open Speaker Meetings*\nEvery 1st\, 2nd and 3rd Saturday of the month.\n________ \nSaturday\, November 16th @ 7pm \n     TBA – Speakers provided by Marilyn R. Roselle \n________ \nElgin Alano Club \n73 S. Riverside Dr.\, Downtown Elgin\, Illinois \n________ \nPlease come early for the “Meeting before the Meeting” for food & fellowship.\nDuring the winter months we will have simple grilled dinners available for $5\, from 5:30 – 7:00. \nNote: If there is an event scheduled at Festival Park\, Riverside Drive may be shut down\, requiring parking on Grove Street.
URL:https://elginalanoclub.com/event/3rd-saturday-open-speaker-meeting-tba-3/
LOCATION:Elgin Alano Club\, 73 Riverside Drive\, Elgin\, IL\, 60120\, United States
CATEGORIES:EAC Event,EDI Club,Open Speaker
END:VEVENT
END:VCALENDAR